BEGIN:VCALENDAR
VERSION:2.0
PRODID:-//Freitagstrasse - ECPv6.15.20//NONSGML v1.0//EN
CALSCALE:GREGORIAN
METHOD:PUBLISH
X-ORIGINAL-URL:https://freitagstrasse.de
X-WR-CALDESC:Veranstaltungen für Freitagstrasse
REFRESH-INTERVAL;VALUE=DURATION:PT1H
X-Robots-Tag:noindex
X-PUBLISHED-TTL:PT1H
BEGIN:VTIMEZONE
TZID:Europe/Berlin
BEGIN:DAYLIGHT
TZOFFSETFROM:+0100
TZOFFSETTO:+0200
TZNAME:CEST
DTSTART:20230326T010000
END:DAYLIGHT
BEGIN:STANDARD
TZOFFSETFROM:+0200
TZOFFSETTO:+0100
TZNAME:CET
DTSTART:20231029T010000
END:STANDARD
BEGIN:DAYLIGHT
TZOFFSETFROM:+0100
TZOFFSETTO:+0200
TZNAME:CEST
DTSTART:20240331T010000
END:DAYLIGHT
BEGIN:STANDARD
TZOFFSETFROM:+0200
TZOFFSETTO:+0100
TZNAME:CET
DTSTART:20241027T010000
END:STANDARD
BEGIN:DAYLIGHT
TZOFFSETFROM:+0100
TZOFFSETTO:+0200
TZNAME:CEST
DTSTART:20250330T010000
END:DAYLIGHT
BEGIN:STANDARD
TZOFFSETFROM:+0200
TZOFFSETTO:+0100
TZNAME:CET
DTSTART:20251026T010000
END:STANDARD
END:VTIMEZONE
BEGIN:VEVENT
DTSTART;TZID=Europe/Berlin:20240530T170000
DTEND;TZID=Europe/Berlin:20240602T160000
DTSTAMP:20260420T052803
CREATED:20240207T140617Z
LAST-MODIFIED:20240207T140619Z
UID:2842-1717088400-1717344000@freitagstrasse.de
SUMMARY:Therapie & Seil
DESCRIPTION:Therapie & Seil vom 30.05.2024 bis 02.06.2024 – Grenzen erlebbar und physisch spürbar machen. \n\n\n\nDu erlebst einen Workshop der eigene Grenzen oder auch die mögliche Grenzenlosigkeit erfahrbar macht. Ebenso den Zustand von Hilflosigkeit und der Sicherheit\, diesen Zustand im geschützten Raum auch selbst beenden zu können. Ein besonderes Abenteuer\, eintauchen in eine unbekannte Welt und die Neugier was es mit dir macht. \n\n\n\nDu musst kein Therapeut sein\, um dabei zu sein. Du erlernst die Grundlagen des Fesselns und kannst es\, wenn du magst\, zuhause anwenden. Außerdem wirst du viel über dich und deinen Umgang mit Grenzen erfahren. Wir können dir ein tief berührendes Wochenende versprechen\, welches deinen Horizont für dein Sein grundlegend weitet. \n\n\n\nFür unsere therapeutisch arbeitenden Kollegen wird es einen neuen tiefen Einblick in das eigene Sein vermitteln. Wer bist du noch? Selbsterfahrung aus einem ganz neuen Blickwinkel und vielleicht kannst du einige neue Werkzeuge in deinen Werkzeugkoffer packen. \n\n\n\nNoch ein Wort zum Schluss. Es geht in diesem Workshop nicht um Nacktheit\, alles kann komplett bekleidet erfahren werden. Wenn Nacktheit den therapeutischen Aspekt unterstützt\, arbeiten wir natürlich auch damit.  \n\n\n\nWer sind wir? \n\n\n\nBeate Ballay \n\n\n\nLeidenschaftliche Meisterin des Seils und der Fesselkunst \n\n\n\nPhysiotherapeutin \n\n\n\nAnukanmasseurin für sinnliche Heilmassagen  \n\n\n\nSexualberaterin \n\n\n\nKreateurin neuer sichere sinnlicher Erfahrungsräume \n\n\n\n \n\n\n\nMichael Patzsch \n\n\n\nSystemischer Familientherapeut \n\n\n\nSexualberater \n\n\n\nTantrische Heilmassagen \n\n\n\nFamilienaufstellungen \n\n\n\nLesungen im morphischen Feld \n\n\n\nGestalt-Therapie in Ausbildung  \n\n\n\nNeugieriger Querdenker im besten Sinne \n\n\n\nKreateur neuer sicherer-sinnlicher Erfahrungsräume \n\n\n\nWir freuen uns auf dich und ein ganz besonderes Wochenende. \n\n\n\nPreis: 520 €  \n\n\n\nDie Teilnehmerzahl ist auf 8 Personen begrenzt. \n\n\n\nUnser Kurs beginnt am 30.5.24 17 Uhr (Anreise ab 16 Uhr) und endet am 2.6.24 gegen 16 Uhr. \n\n\n\nMit der Anzahlung von 100 € ist deine Anmeldung verbindlich gebucht. \n\n\n\nFür deine Verpflegung trägst du selber Sorge. Du kannst unsere Küche nutzen oder es kann in einem Imbiss vor Ort bestellt werden. \n\n\n\nGruppenübernachtung in der Jurte für 25€ p.P./Nacht möglich. Bitte Bettzeug komplett mitbringen. \n\n\n\nBitte beachte folgende Stornokosten. Ab 3 Wochen vor Beginn 50%. Ab 2 Wochen vor Beginn 100%. \n\n\n\n\n\n\n\n\nJetzt anmelden
URL:https://freitagstrasse.de/veranstaltung/therapie-seil/
CATEGORIES:Workshop
ATTACH;FMTTYPE=image/jpeg:https://freitagstrasse.de/wp-content/uploads/2023/02/seile-natur.jpg
END:VEVENT
BEGIN:VEVENT
DTSTART;TZID=Europe/Berlin:20240612T080000
DTEND;TZID=Europe/Berlin:20240616T170000
DTSTAMP:20260420T052803
CREATED:20240212T164418Z
LAST-MODIFIED:20240508T123945Z
UID:2727-1718179200-1718557200@freitagstrasse.de
SUMMARY:Frauenpilgern 2024 Gotha - Vacha
DESCRIPTION:Diese 5 Tage gehören nur dir. Das Einzige was zu tun ist\, ist zu laufen. Kein Haushalt\, keine Arbeit\, keine Kinderbetreuung\, nur du\, der Weg und die Pilgerschwestern\, die mit auf dem Weg sind. Ein ungewohnter Raum vielleicht\, wenn es nur um dich gehen darf und deinen Weg. Wir pilgern durch Sachsen entlang des ökumenischen Pilgerweges\, der durch schöne Landschaften\, ruhige Dörfer und Städtchen und ab und zu an Landstrassen vorbei führt. Das magische ist\, das selbst bei nur 5 Tagen echtes Pilgerfeeling aufkommt. Begeisterung\, Erschöpfung\, Frustration\, Glücksmomente\, Ergriffenheit\, Zufriedenheit – alles ist dabei und kann durchlebt werden\, wie auf einer 2 oder 4 Wochen Tour.Wir gehen den Weg in einer kleinen Gruppe\, dabei ist genug Raum\, um auch mal allein zu laufen oder bewußt den Kontakt zu den anderen zu suchen. Der Weg läuft dich. Dein Geist wird still oder läuft zu Hochtouren auf\, der Körper entspannt sich im Gehen oder rebelliert\, egal was sich zeigt – der Weg ist geduldig und das Bett am Ende des Tages auch. Es ist Zeit zum reden oder schweigen\, ganz wie du es brauchst\, die Gemeinschaft trägt jede Einzelne und so entsteht ein ganz besonderes Gefühl unter den Frauen.Wenn du schon immer mal wissen wolltest\, wie Pilgern ist und ob du das magst und kannst\, sind diese Tage eine gute Möglichkeit\, sich dem Thema Pilgern anzunähern. In diesem Jahr gehen wir 4 volle Tage und gönnen uns den 5. Tag für die Heimreise. Nach 6 Jahren Etappenpilgern ist dies der letzte Streckenabschnitt des ökumenischen Pilgerweges. Die Strecken sind gut zu laufen und eine normale Alltagsfitness ist völlig ausreichend. Wir laufen von Gotha nach Vacha zwischen 15 und 25 km pro Tag\, folgen in Abschnitten dem Rennsteigweg und überschreiten den Hörselberg\, der zu allen Zeiten ein heiliger Berg war. Vielleicht begleitet uns der Geist von Wotan\, Venus und Frau Holle durch diese Wälder. Lassen wir uns überraschen! \n\n\n\nAlles was gebraucht wird\, ist im Rucksack dabei. Geschlafen wird in einfachen Pilgerunterkünften und Pensionen. \n\n\n\nDie An- und Heimreise ist auf jeden Fall per Zug und Bus möglich und erfolgt in Eigenregie. \n\n\n\nWenn du neugierig geworden bist und dabei sein möchtest melde dich gerne an. Dann sende ich dir eine Packliste zur Vorbereitung zu. \n\n\n\nMit der Anzahlung von 100 € ist deine Anmeldung verbindlich. \n\n\n\nPreis inkl. Übernachtung 430 € \n\n\n\nBitte beachte: Bei Absage deiner Teilnahme berechne ich folgende Bearbeitungsgebühr. \n\n\n\n\nab 3 Monate vor Beginn die Höhe deiner Anzahlung\n\n\n\nab 4 Wochen vor Beginn 50%\n\n\n\nab 2 Wochen vor Beginn 100 %\n\n\n\n\n \n\n\n\n\n\n\n\n\nJetzt anmelden\n\n\n\n\n\n\n\n\n\nFrauenpilgern 2023\n\n\n\nÖkumenischer Pilgerweg\n\n\n\nPilgerwegweiser\n\n\n\nWeinberge an der Saale\n\n\n\nPilgerführerin Anke\n\n\n\nAbschlußkreis
URL:https://freitagstrasse.de/veranstaltung/frauenpilgern/
ATTACH;FMTTYPE=image/jpeg:https://freitagstrasse.de/wp-content/uploads/2022/11/Wegweiser-pilgern-rotated.jpg
END:VEVENT
BEGIN:VEVENT
DTSTART;TZID=Europe/Berlin:20240621T110000
DTEND;TZID=Europe/Berlin:20240623T160000
DTSTAMP:20260420T052803
CREATED:20240103T200620Z
LAST-MODIFIED:20240103T200621Z
UID:2722-1718967600-1719158400@freitagstrasse.de
SUMMARY:Ein Kurs in Selbstliebe
DESCRIPTION:Ein Wochenendausflug zu dir selbst \n\n\n\nSelbstliebe – heute so wichtig wie schon immer. Die Zeitqualität war noch nie so günstig. Die Hinwendung zu sich selbst\, das gut für sich selbst sorgen und das sich selbst in den Mittelpunkt seines Lebens stellen\, das haben wir meist nicht gelernt. Was wir gelernt haben ist\, das andere immer wichtiger sind als wir. Aufopferung für andere doch wo bleibst du selbst? Wann ist es genug? Dann wenn deine Kraft am Ende ist? Du nicht mehr kannst? Rücksicht auf andere nehmen\, ohne Rücksicht auf dich selbst. Kennst du die Angst\, als egoistisch bezeichnet zu werden wenn du zuerst an dich denkst? \n\n\n\nAn diesem Wochenende möchten wir uns das Thema gemeinsam mit dir anschauen. \n\n\n\nWas glaubst du wenn du das Wort Selbstliebe hörst? Was macht das Wort Egoismus mit dir? Was sind deine Glaubenssätze? Was wäre wenn du\, gut mit Selbstliebe aufgetankt bist. Wie gut kannst du für andere da sein wenn du in deiner Kraft bist? \n\n\n\nWie fühlt es sich an\, deine Grenzen gut zu waren und nicht über deine Kräfte zu gehen. Was brauchst DU für ein erfülltes Leben? Wie fühlt es sich an wenn du im Mittelpunkt deines Lebens stehst. \n\n\n\nKomm mit auf einen Wochenendausflug zu dir und wer weiß\, vielleicht beschließt du danach ja gleich\, bei dir zu bleiben. Die Chancen stehen gut. \n\n\n\nKursgebühr: 450 € \n\n\n\nMit einer Anzahlung von 100 € ist deine Anmeldung verbindlich gebucht. \n\n\n\nFür deine Übernachtung und Verpflegung trägst du selber Sorge. Du kannst unsere Küche nutzen oder es kann in einem Imbiss vor Ort bestellt werden. \n\n\n\nBeginn: 21.06.24 11 Uhr \n\n\n\nEnde: 23.6.24 gegen 16 Uhr \n\n\n\nOrt: Jurte – Freitagstrasse 4 in 08066 Zwickau \n\n\n\nBitte beachte: Bei Absage deiner Teilnahme berechnen wir folgende Bearbeitungsgebühr. \n\n\n\n\nab 3 Monate vor Beginn die Höhe deiner Anzahlung\n\n\n\nab 4 Wochen vor Beginn 50%\n\n\n\nab 2 Wochen vor Beginn 100 %\n\n\n\n\n \n\n\n\n \n\n\n\n\n\n\n\n\n\n\n\n\n\n\n\n\n\n\nJetzt anmelden
URL:https://freitagstrasse.de/veranstaltung/ein-kurs-in-selbstliebe-5/
ATTACH;FMTTYPE=image/jpeg:https://freitagstrasse.de/wp-content/uploads/2021/06/IMAGE-2021-06-20-170754.jpg
END:VEVENT
END:VCALENDAR