BEGIN:VCALENDAR
VERSION:2.0
PRODID:-//Freitagstrasse - ECPv6.15.20//NONSGML v1.0//EN
CALSCALE:GREGORIAN
METHOD:PUBLISH
X-WR-CALNAME:Freitagstrasse
X-ORIGINAL-URL:https://freitagstrasse.de
X-WR-CALDESC:Veranstaltungen für Freitagstrasse
REFRESH-INTERVAL;VALUE=DURATION:PT1H
X-Robots-Tag:noindex
X-PUBLISHED-TTL:PT1H
BEGIN:VTIMEZONE
TZID:Europe/Berlin
BEGIN:DAYLIGHT
TZOFFSETFROM:+0100
TZOFFSETTO:+0200
TZNAME:CEST
DTSTART:20220327T010000
END:DAYLIGHT
BEGIN:STANDARD
TZOFFSETFROM:+0200
TZOFFSETTO:+0100
TZNAME:CET
DTSTART:20221030T010000
END:STANDARD
BEGIN:DAYLIGHT
TZOFFSETFROM:+0100
TZOFFSETTO:+0200
TZNAME:CEST
DTSTART:20230326T010000
END:DAYLIGHT
BEGIN:STANDARD
TZOFFSETFROM:+0200
TZOFFSETTO:+0100
TZNAME:CET
DTSTART:20231029T010000
END:STANDARD
BEGIN:DAYLIGHT
TZOFFSETFROM:+0100
TZOFFSETTO:+0200
TZNAME:CEST
DTSTART:20240331T010000
END:DAYLIGHT
BEGIN:STANDARD
TZOFFSETFROM:+0200
TZOFFSETTO:+0100
TZNAME:CET
DTSTART:20241027T010000
END:STANDARD
END:VTIMEZONE
BEGIN:VEVENT
DTSTART;TZID=Europe/Berlin:20230714T100000
DTEND;TZID=Europe/Berlin:20230716T160000
DTSTAMP:20260420T221805
CREATED:20221123T214454Z
LAST-MODIFIED:20230531T091528Z
UID:2014-1689328800-1689523200@freitagstrasse.de
SUMMARY:Ein Kurs in Selbstliebe 14.-16. Juli 2023
DESCRIPTION:Ein Wochenendausflug zu dir selbst \n\n\n\nSelbstliebe – heute so wichtig wie schon immer. Die Zeitqualität war noch nie so günstig. Die Hinwendung zu sich selbst\, das gut für sich selbst sorgen und das sich selbst in den Mittelpunkt seines Lebens stellen\, das haben wir meist nicht gelernt. Was wir gelernt haben ist\, das andere immer wichtiger sind als wir. Aufopferung für andere doch wo bleibst du selbst? Wann ist es genug? Dann wenn deine Kraft am Ende ist? Du nicht mehr kannst? Rücksicht auf andere nehmen\, ohne Rücksicht auf dich selbst. Kennst du die Angst\, als egoistisch bezeichnet zu werden wenn du zuerst an dich denkst?An diesem Wochenende möchten wir uns das Thema gemeinsam mit dir anschauen.Was glaubst du wenn du das Wort Selbstliebe hörst? Was macht das Wort Egoismus mit dir? Was sind deine Glaubenssätze? Was wäre wenn du\, gut mit Selbstliebe aufgetankt bist. Wie gut kannst du für andere da sein wenn du in deiner Kraft bist?Wie fühlt es sich an\, deine Grenzen gut zu waren und nicht über deine Kräfte zu gehen. Was brauchst DU für ein erfülltes Leben? Wie fühlt es sich an wenn du im Mittelpunkt deines Lebens stehst.Komm mit auf einen Wochenendausflug zu dir und wer weiß\, vielleicht beschließt du danach ja gleich\, bei dir zu bleiben. Die Chancen stehen gut. \n\n\n\n \n\n\n\nKursgebühr: 450 € \n\n\n\nMit einer Anzahlung von 100 € ist deine Anmeldung verbindlich gebucht. \n\n\n\nFür deine Übernachtung und Verpflegung trägst du selber Sorge. Du kannst unsere Küche nutzen oder es kann in einem Imbiss vor Ort bestellt werden. \n\n\n\nBeginn: 14.7.23 10 Uhr \n\n\n\nEnde: 16.7.23 gegen 16 Uhr \n\n\n\nOrt: Jurte – Freitagstrasse 4 in 08066 Zwickau \n\n\n\nBitte beachte: Bei Absage deiner Teilnahme berechnen wir folgende Bearbeitungsgebühr. \n\n\n\n\nab 3 Monate vor Beginn die Höhe deiner Anzahlung\n\n\n\nab 4 Wochen vor Beginn 50 %\n\n\n\nab 2 Wochen vor Beginn 100 %\n\n\n\n\n\n\n\n\n\nJetzt anmelden
URL:https://freitagstrasse.de/veranstaltung/ein-kurs-in-selbstliebe-4/
CATEGORIES:Workshop
ATTACH;FMTTYPE=image/jpeg:https://freitagstrasse.de/wp-content/uploads/2021/06/IMAGE-2021-06-20-170754.jpg
END:VEVENT
BEGIN:VEVENT
DTSTART;TZID=Europe/Berlin:20230718T100000
DTEND;TZID=Europe/Berlin:20230722T170000
DTSTAMP:20260420T221805
CREATED:20230620T124639Z
LAST-MODIFIED:20230621T161204Z
UID:2425-1689674400-1690045200@freitagstrasse.de
SUMMARY:Sommerpilgern mit Micha
DESCRIPTION:Aus einer spontanen Idee ist ein Projekt geworden. Eine Pilgertour in den Ferien vom 18. Juli bis 22. Juli. Für alle die nur in den Ferien frei haben und natürlich auch für alle Anderen\, gibt es ein Sommerferienpilgern. Unsere Tour geht über den ökumenischen Pilgerweg von Naumburg nach Erfurt. Für alle die möchten gibt es optional einen Tag mehr. Wir gehen nicht einfach nur wandern. Auf unserem gemeinsamen Weg ist viel Zeit\, um mit deinen aktuellen Themen des Lebens zu arbeiten. Egal was dich gerade bewegt\, jedes Thema ist möglich und ich stehe dir und der Gruppe während der ganzen Zeit mit meinem Arbeitskoffer zur Verfügung. Erfahrungsgemäß wird es nicht ausschließlich tief\, es wird ganz sicher auch viel zu lachen geben und am Ende unseres Weges wirst du stolz sein\, etwa 80 km gelaufen zu sein. Innere Arbeit darf und sollte unbedingt Spaß machen. Es darf auch leicht sein!Ich freue mich auf dich und bin neugierig auf unsere gemeinsame Zeit. \n\n\n\nStart 18.7.23      Treff 10:00 Uhr am Naumburger DomEnde 22.7.23      Erfurt und Heimreise \n\n\n\nKosten: 450 € inkl. Übernachtung in einfachen Pilgerunterkünften (An- und Abreise in Eigenregie) \n\n\n\nAlles was du brauchst ist im Rucksack dabei. Für deine Verpflegung sorgst du auf dem Weg selbst. \n\n\n\nMit deiner Anmeldung bekommst du eine Packliste zur Vorbereitung. \n\n\n\n \n\n\n\n\nBitte beachte: Bei Absage deiner Teilnahme berechnen wir folgende Stornierungsgebühr. \n\n\n\nab 2 Wochen vor Beginn 100 % \n\n\n\n\n\n\n\n\nJetzt anmelden
URL:https://freitagstrasse.de/veranstaltung/sommerpilgern-mit-micha/
CATEGORIES:Pilgern
ATTACH;FMTTYPE=image/jpeg:https://freitagstrasse.de/wp-content/uploads/2022/11/Italien-22-1.jpg
END:VEVENT
END:VCALENDAR