BEGIN:VCALENDAR
VERSION:2.0
PRODID:-//Freitagstrasse - ECPv6.15.20//NONSGML v1.0//EN
CALSCALE:GREGORIAN
METHOD:PUBLISH
X-ORIGINAL-URL:https://freitagstrasse.de
X-WR-CALDESC:Veranstaltungen für Freitagstrasse
REFRESH-INTERVAL;VALUE=DURATION:PT1H
X-Robots-Tag:noindex
X-PUBLISHED-TTL:PT1H
BEGIN:VTIMEZONE
TZID:Europe/Berlin
BEGIN:DAYLIGHT
TZOFFSETFROM:+0100
TZOFFSETTO:+0200
TZNAME:CEST
DTSTART:20210328T010000
END:DAYLIGHT
BEGIN:STANDARD
TZOFFSETFROM:+0200
TZOFFSETTO:+0100
TZNAME:CET
DTSTART:20211031T010000
END:STANDARD
BEGIN:DAYLIGHT
TZOFFSETFROM:+0100
TZOFFSETTO:+0200
TZNAME:CEST
DTSTART:20220327T010000
END:DAYLIGHT
BEGIN:STANDARD
TZOFFSETFROM:+0200
TZOFFSETTO:+0100
TZNAME:CET
DTSTART:20221030T010000
END:STANDARD
BEGIN:DAYLIGHT
TZOFFSETFROM:+0100
TZOFFSETTO:+0200
TZNAME:CEST
DTSTART:20230326T010000
END:DAYLIGHT
BEGIN:STANDARD
TZOFFSETFROM:+0200
TZOFFSETTO:+0100
TZNAME:CET
DTSTART:20231029T010000
END:STANDARD
END:VTIMEZONE
BEGIN:VEVENT
DTSTART;TZID=Europe/Berlin:20220920T090000
DTEND;TZID=Europe/Berlin:20221001T170000
DTSTAMP:20260421T113415
CREATED:20220318T122647Z
LAST-MODIFIED:20220907T083042Z
UID:1785-1663664400-1664643600@freitagstrasse.de
SUMMARY:Franziskusweg 2022 - Die Herausforderung für Körper\, Geist und Seele
DESCRIPTION:20.9. – 1.10.22  Assisi – Rom \n\n\n\nDer Franziskusweg durch Italien ist der faszinierendste Pilgerweg den ich je gegangen bin. Von Florenz aus\, über den Appenin nach Assisi bis nach Rom\, immer auf den Spuren von Franz von Assisi\, einem der herausragendsten Menschen des letzten Jahrtausends.Atemberaubend schöne Natur\, einsame Wege und magische Plätze gepaart mit steilen An- und Abstiegen\, all das hat dieser Weg in Hülle und Fülle. Dazu ab und an eine Stadt mit viel Geschichte und dem Charme Italiens.Dieser Weg fordert alles von dir und bringt dich an deine Grenzen. Bis Assisi (ca. 280 km) geht es 8000 Höhenmeter aufwärts und wenn du bis nach Rom gehen möchtest\, kommen noch einmal so viele dazu.Dein Körper kommt an seine Grenzen und dein Ego wird müde. Neue Gedanken formen sich und vielleicht lernst du neue Seiten an dir kennen. Vielleicht kannst du den Deckel nicht mehr auf „dem Topf“ deiner Emotionen halten und es bricht etwas auf. Alles darf da sein Tränen\, Wut\, Freude\, Enthusiasmus\, Rückenschmerzen und Blasen an den Füßen.Für Franz\, als Kind seiner Zeit\, ging es viel ums Büßen. Auch das darf sein wenn du das möchtest. Für mich ist dieser Weg eher vergleichbar mit dem Aufbrechen eines Kirschkerns. Enormer Druck darf entstehen\, um ihn aufzubrechen damit die neue Saat\, ein neuer Baum\, wachsen kann. Ein Baum der wächst\, stärker wird\, sich im Wind geschmeidig biegt\, Schatten spendet und neue Kirschen\, Kirschkerne hervor bringt\, damit diese dann aufbrechen und wieder neues Leben entsteht.Was wartet in dir darauf aufblühen zu können? Welche Schalen und Krusten warten darauf gesprengt zu werden? Genau dafür ist dieser Weg gedacht. Da ist nichts einfach\, kein Spaziergang\, aber es lohnt sich – Meter für Meter. Der Weg gibt sein bestes\, Dich dabei zu begleiten mit Schönheit und Anmut\, er berührt dich. Wunderbare Momente\, wenn du den Blick ins Tal schweifen läßt und du weist\, das du dort vor Stunden warst und du weißt\, das sich jeder Schritt und jeder Schweißtropfen gelohnt hat. Genau dieser Moment der Ergriffenheit\, du weißt das du diesen Moment nicht festhalten kannst\, du weiter möchtest und weißt\, das noch viele dieser Momente vor dir liegen\, wie im Leben. \n\n\n\nSpricht das mit dir? Dann komm mit. Wir werden maximal zu sechst sein. Mit allem was wir brauchen auf dem Rücken. Inclusive Zelt\, Isomatte und Schlafsack. Wir werden viel draußen schlafen. Dort werden wir dem Göttlichen am nächsten sein. Fernab von Religion verbunden mit der großen Mutter\, der Erde\, mit all ihrer Geborgenheit und Vater Himmel mit all seiner Weisheit. Wir\, ja wir sind die Schöpfung zwischen beiden\, das ist für mich Spiritualität\, nichts was man tun kann\, sondern das was man ist. Gerade im Moment.Ich bin für dich und die Gruppe täglich da und unterstütze die Prozesse mit all meinem Wissen. \n\n\n\n \n\n\n\nDieses Jahr nehmen wir den zweiten Teil der Stecke unter unsere Füße. \n\n\n\nStart in Assisi:           20.09.2022 Ende in Rom:     ca.    1.10.2022 (Pilgerreisen sind nie genau zu terminieren) \n\n\n\n \n\n\n\n \n\n\n\nPreis 1400\,00 Euro  \n\n\n\nIm Preis enthalten sind meine Wegbegleitung und die anfallenden Übernachtungen im Mehrbettzimmer in Hotels oder Pensionen am Weg. Ich möchte hier nochmals darauf hin weisen\, das wir oft draußen oder im Zelt schlafen. Im Preis ist kein Anspruch auf ein tägliches Bett enthalten.Nicht im Preis enthalten sind Verpflegung und An- und Abreise. Dies erfolgt jeweils in Eigenregie oder in eigener Absprache mit den Gruppenmitgliedern. \n\n\n\nPilgerbegleitung: Micha \n\n\n\n \n\n\n\n\n\n\n\n\nJetzt anmelden
URL:https://freitagstrasse.de/veranstaltung/franziskusweg-2022-die-herausforderung-fuer-koerper-geist-und-seele/
CATEGORIES:Pilgern
ATTACH;FMTTYPE=image/jpeg:https://freitagstrasse.de/wp-content/uploads/2022/03/Image-1-6.jpg
END:VEVENT
BEGIN:VEVENT
DTSTART;TZID=Europe/Berlin:20221014T150000
DTEND;TZID=Europe/Berlin:20221016T170000
DTSTAMP:20260421T113415
CREATED:20221002T161921Z
LAST-MODIFIED:20221002T161923Z
UID:1959-1665759600-1665939600@freitagstrasse.de
SUMMARY:Ein Kurs in Selbstliebe
DESCRIPTION:Ein Kurs in SelbstliebeoderEin Wochenendausflug zu dir selbst \n\n\n\nSelbstliebe – heute so wichtig wie schon immer. Die Zeitqualität war noch nie so günstig. Die Hinwendung zu sich selbst\, das gut für sich selbst sorgen und das sich selbst in den Mittelpunkt seines Lebens stellen\, das haben wir meist nicht gelernt. Was wir gelernt haben ist\, das andere immer wichtiger sind als wir. Aufopferung für andere doch wo bleibst du selbst? Wann ist es genug? Dann wenn deine Kraft am Ende ist? Du nicht mehr kannst? Rücksicht auf andere nehmen\, ohne Rücksicht auf dich selbst. Kennst du die Angst\, als egoistisch bezeichnet zu werden wenn du zuerst an dich denkst?An diesem Wochenende möchten wir uns das Thema gemeinsam mit dir anschauen.Was glaubst du wenn du das Wort Selbstliebe hörst? Was macht das Wort Egoismus mit dir? Was sind deine Glaubenssätze? Was wäre wenn du\, gut mit Selbstliebe aufgetankt bist. Wie gut kannst du für andere da sein wenn du in deiner Kraft bist?Wie fühlt es sich an\, deine Grenzen gut zu waren und nicht über deine Kräfte zu gehen. Was brauchst DU für ein erfülltes Leben? Wie fühlt es sich an wenn du im Mittelpunkt deines Lebens stehst.Komm mit auf einen Wochenendausflug zu dir und wer weiß\, vielleicht beschließt du danach ja gleich\, bei dir zu bleiben. Die Chancen stehen gut. \n\n\n\nMit einer Anzahlung von 100 € ist deine Anmeldung verbindlich gebucht. \n\n\n\n450 € mit Frühstück und Übernachtung in der Jurte400 € mit Frühstück ohne Übernachtung \n\n\n\n\n\n\n\n\nJetzt anmelden
URL:https://freitagstrasse.de/veranstaltung/ein-kurs-in-selbstliebe-2/
CATEGORIES:Information,Workshop
ATTACH;FMTTYPE=image/jpeg:https://freitagstrasse.de/wp-content/uploads/2022/03/grünes-Herz-mit-Enten.jpg
END:VEVENT
END:VCALENDAR