BEGIN:VCALENDAR
VERSION:2.0
PRODID:-//Freitagstrasse - ECPv6.15.20//NONSGML v1.0//EN
CALSCALE:GREGORIAN
METHOD:PUBLISH
X-WR-CALNAME:Freitagstrasse
X-ORIGINAL-URL:https://freitagstrasse.de
X-WR-CALDESC:Veranstaltungen für Freitagstrasse
REFRESH-INTERVAL;VALUE=DURATION:PT1H
X-Robots-Tag:noindex
X-PUBLISHED-TTL:PT1H
BEGIN:VTIMEZONE
TZID:Europe/Berlin
BEGIN:DAYLIGHT
TZOFFSETFROM:+0100
TZOFFSETTO:+0200
TZNAME:CEST
DTSTART:20200329T010000
END:DAYLIGHT
BEGIN:STANDARD
TZOFFSETFROM:+0200
TZOFFSETTO:+0100
TZNAME:CET
DTSTART:20201025T010000
END:STANDARD
BEGIN:DAYLIGHT
TZOFFSETFROM:+0100
TZOFFSETTO:+0200
TZNAME:CEST
DTSTART:20210328T010000
END:DAYLIGHT
BEGIN:STANDARD
TZOFFSETFROM:+0200
TZOFFSETTO:+0100
TZNAME:CET
DTSTART:20211031T010000
END:STANDARD
BEGIN:DAYLIGHT
TZOFFSETFROM:+0100
TZOFFSETTO:+0200
TZNAME:CEST
DTSTART:20220327T010000
END:DAYLIGHT
BEGIN:STANDARD
TZOFFSETFROM:+0200
TZOFFSETTO:+0100
TZNAME:CET
DTSTART:20221030T010000
END:STANDARD
END:VTIMEZONE
BEGIN:VEVENT
DTSTART;TZID=Europe/Berlin:20211112T150000
DTEND;TZID=Europe/Berlin:20211114T163000
DTSTAMP:20260422T032619
CREATED:20211025T112213Z
LAST-MODIFIED:20211025T112931Z
UID:1625-1636729200-1636907400@freitagstrasse.de
SUMMARY:Kurs in Vergebung
DESCRIPTION:Vergebung ist\, neben der Selbstliebe\, die wirkkräftigste Ausprägung von Menschlichkeit auf dem Weg in ein bewusstes\, erfüllendes und von innerem Frieden geprägtes Sein. Vergebung für einen anderen\, noch viel mehr Vergebung gegenüber deiner Selbst. Vergebung bedeutet annehmen was ist\, übernehmen von Verantwortung\, anerkennen von Täter– und Opferschaft. Vergebung bedeutet anzuerkennen\, das Dinge so verlaufen sind\, weil manches zum Zeitpunkt der Tat nicht bewusst war oder alte Muster abliefen von denen du keine Ahnung hattest. \n\n\n\nVielleicht entsteht eine zu vergebende Tat aus völlig verschiedenen\, erlernten Sichtweisen und Annahmen. Egal was der Grund ist… \n\n\n\nVergebung heißt nicht\, das Dinge ungeschehen gemacht werden. Nein\, sie sind immer noch das was sie sind. Vergebung bedeutet\, die Hand von der Kehle des anderen zu nehmen\, die Hände wieder frei zu haben\, um neues zu erschaffen und nicht mehr in der Starre des eigenen Würgegriffs gefangen zu sein. \n\n\n\nVergeben heißt\, sich zu öffnen… für das\, was das Gegenüber auch ist. \n\n\n\nDu meinst das geht nicht? Stell dir vor du bist der Täter und wünschst dir Vergebung… du würdest fast alles tun\, um das Geschehene ungeschehen zu machen. Du hast einen Fehler gemacht den du gerne rückgängig machen würdest. Passiert ist passiert. Was würdest du dafür geben das dir vergeben wird? Wie fühlt es sich an wenn dir verziehen wurde? Wie hat es sich für dich angefühlt wenn\, du jemandem vergeben hast? Wie oft entsteht Tat aus Tat und die Spirale der Gewalt dreht sich immer weiter. Du kannst niemanden verletzen ohne dir selbst weh zu tun. Vielleicht verschafft dir ein aktueller „Sieg“ Genugtuung\, aber das Gemetzel geht weiter. \n\n\n\nIn unserem Workshop möchten wir mit dir die Dynamik hinter dem Thema erforschen. Wir möchte Licht ins Dunkel der Opfer–Täter-Dynamik bringen und Wege aufzeigen wie du\, durch Vergebung Freiheit für dich entstehen lassen kannst. \n\n\n\nVergebung ist ein besonderer Akt der Liebe und deshalb auch Inhalt und Thema der zweiten Workshop–Reihe unserer Liebesschule. Fühl dich von Herzen eingeladen auf ein besonderes Wochenende welches deinen Blick auf das Leben grundlegend verändern kann. \n\n\n\nMit einer Anzahlung von 100 € ist deine Anmeldung verbindlich gebucht. \n\n\n\n\n\n\n\n\n\n\nJetzt anmelden
URL:https://freitagstrasse.de/veranstaltung/kurs-in-vergebung/
CATEGORIES:Workshop
ATTACH;FMTTYPE=image/jpeg:https://freitagstrasse.de/wp-content/uploads/2021/06/people-2561053__340.jpg
END:VEVENT
BEGIN:VEVENT
DTSTART;TZID=Europe/Berlin:20211123T173000
DTEND;TZID=Europe/Berlin:20211123T220000
DTSTAMP:20260422T032619
CREATED:20211025T130032Z
LAST-MODIFIED:20211025T141148Z
UID:1648-1637688600-1637704800@freitagstrasse.de
SUMMARY:Familienaufstellungen
DESCRIPTION:Zwei systemische Familienaufstellungen finden an diesem Abend statt. \n\n\n\nHast du ein Thema das dich bedrückt\, seit langem begleitet und/oder das du endlich in Heilung und Klärung bringen möchtest? Dann nutze die Kraft der systemischen Aufstellarbeit und reserviere dir einen Termin. \n\n\n\nBitte beachte: Wenn du kurzfristig deinen Termin absagt erheben wir folgende Bearbeitungsgebühren: \n\n\n\nbis 1 Woche vor dem Termin: 50% der Aufstellkosten\n\n\n\ndanach wird der volle Preis berechnet.\n\n\n\nGern kannst du als Stellvertreter dazu kommen und die Aufstellung so unterstützen. Oftmals kommen schon auf diesem Wege eigene Themen in Bewegung. \n\n\n\nStellvertreter: 10 € Spende\n\n\n\n\n\n\n\n\n\n\nJetzt anmelden
URL:https://freitagstrasse.de/veranstaltung/familienaufstellungen/
CATEGORIES:Familienaufstellungen
ATTACH;FMTTYPE=image/jpeg:https://freitagstrasse.de/wp-content/uploads/2021/10/IMG_6193.jpg
END:VEVENT
BEGIN:VEVENT
DTSTART;TZID=Europe/Berlin:20211129T180000
DTEND;TZID=Europe/Berlin:20211129T210000
DTSTAMP:20260422T032619
CREATED:20211025T123824Z
LAST-MODIFIED:20211025T123827Z
UID:1636-1638208800-1638219600@freitagstrasse.de
SUMMARY:Montags auf der Freitagstrasse
DESCRIPTION:Unser neues Format „Montags auf der Freitagstrasse“ ist ein offener Abend für alle die uns schon kennen oder uns und unsere Arbeit kennenlernen möchten. Wir erzählen über uns und was uns bewegt und stellen pro Abend ein Thema vor. Du kannst den offenen Raum für neugierigen freien Austausch\, Fragen stellen und aktuelle persönliche Themen nutzen oder auch nur lauschen.  \n\n\n\nZum Start unserer Montagsreihe widmen wir uns der Familienordnung. Was ist das? Stimmt die Ordnung in unserer Familie? Wie kann Ordnung hergestellt werden und warum ist es überhaupt wichtig?  \n\n\n\nMelde dich gern telefonisch oder über unser Anmeldeformular an. \n\n\n\n\n\n\n\n\nJetzt anmelden
URL:https://freitagstrasse.de/veranstaltung/montags-auf-der-freitagstrasse/
CATEGORIES:Information
ATTACH;FMTTYPE=image/jpeg:https://freitagstrasse.de/wp-content/uploads/2021/10/IMG_2994-rotated.jpg
END:VEVENT
END:VCALENDAR