BEGIN:VCALENDAR
VERSION:2.0
PRODID:-//Freitagstrasse - ECPv6.15.20//NONSGML v1.0//EN
CALSCALE:GREGORIAN
METHOD:PUBLISH
X-WR-CALNAME:Freitagstrasse
X-ORIGINAL-URL:https://freitagstrasse.de
X-WR-CALDESC:Veranstaltungen für Freitagstrasse
REFRESH-INTERVAL;VALUE=DURATION:PT1H
X-Robots-Tag:noindex
X-PUBLISHED-TTL:PT1H
BEGIN:VTIMEZONE
TZID:Europe/Berlin
BEGIN:DAYLIGHT
TZOFFSETFROM:+0100
TZOFFSETTO:+0200
TZNAME:CEST
DTSTART:20200329T010000
END:DAYLIGHT
BEGIN:STANDARD
TZOFFSETFROM:+0200
TZOFFSETTO:+0100
TZNAME:CET
DTSTART:20201025T010000
END:STANDARD
BEGIN:DAYLIGHT
TZOFFSETFROM:+0100
TZOFFSETTO:+0200
TZNAME:CEST
DTSTART:20210328T010000
END:DAYLIGHT
BEGIN:STANDARD
TZOFFSETFROM:+0200
TZOFFSETTO:+0100
TZNAME:CET
DTSTART:20211031T010000
END:STANDARD
BEGIN:DAYLIGHT
TZOFFSETFROM:+0100
TZOFFSETTO:+0200
TZNAME:CEST
DTSTART:20220327T010000
END:DAYLIGHT
BEGIN:STANDARD
TZOFFSETFROM:+0200
TZOFFSETTO:+0100
TZNAME:CET
DTSTART:20221030T010000
END:STANDARD
END:VTIMEZONE
BEGIN:VEVENT
DTSTART;TZID=Europe/Berlin:20211015T150000
DTEND;TZID=Europe/Berlin:20211017T160000
DTSTAMP:20260422T045140
CREATED:20210912T103723Z
LAST-MODIFIED:20210912T103726Z
UID:1424-1634310000-1634486400@freitagstrasse.de
SUMMARY:Ein Kurs in Selbstliebe
DESCRIPTION:Ein Kurs in Selbstliebe. \n\n\n\nLiebe deinen Nächsten wie dich selbst\, heißt es im Neuen Testament. \n\n\n\nKann es sein\, das die Welt so aussieht wie sie ist\, weil wir das unbewusst so machen? Wie gehst du mit dir selbst um? Bist du achtsam mit dir? Nachsichtig\, liebevoll\, sanft? \n\n\n\nOder bist du eher hart und unnachgiebig\, lieblos oder selbstverurteilend? Verurteilst du dich als „zu dumm\, zu dick\, zu dünn\, zu wenig erfolgreich“? Hälst du dich vielleicht für eine „Weichwurst oder eine Heulsuse“? Würdest du mit deinem besten Freund\, deiner besten Freundin so umgehen wie du es mit dir selbst tust? \n\n\n\nDenkst du vielleicht gerade jetzt: „ja… genau… das bin ich“\, dann macht es Sinn\, damit aufzuhören andere so zu lieben\, wie dich selbst. \n\n\n\nKaum jemand hat uns im Fach Selbstliebe unterrichtet. In der Schule suchen wir das Fach vergebens. Dort wird oft Urteilen und Selbstverurteilung gelehrt. Vielleicht hat der eine oder andere etwas von seinen Eltern aufschnappen können. \n\n\n\nDer große Durchschnitt wird seine Eltern wohl als „rücksichtslos“ gegen sich selbst erlebt haben. Arbeiten bis zum umfallen\, Fieber? Kein Problem… Tablette und weiter auf Arbeit gehen. \n\n\n\nWenn dir das eine oder andere bekannt vorkommt… fühle was da aufsteigt und werde weich. Es ist wie es ist und nur eins ist heute besonders. Wir Leben in einer Zeit in der wir uns dies alles anschauen dürfen. Eine Zeit des Erwachens und der Neuausrichtung. Es macht keinen Sinn\, den Eltern oder Lehrern gram zu sein. Sie wußten es nicht besser. Du der/die du das liest schon und es ist an dir\, ob du deinen Kindern all das alte Zeug wieder in die Werkzeugtasche des Lebens legen möchtest. \n\n\n\nOder möchtest du zu der Generation gehören die sich das alles anschaut und grundlegend verändern kann? Ich nenn uns alle immer gern die Game Changer-Generation. Hast du Lust auf das größte Abenteuer überhaupt? Eine Liebesbeziehung zu dir selbst??? \n\n\n\nEin Kurs in Selbstliebe… ❤️ das erste Kind unserer Liebesschule wird geboren. \n\n\n\nWenn du dabei sein willst… in der „Pioniergruppe“… fühl dich eingeladen. \n\n\n\n                \n\n\n\nDeine Anmeldung ist mit einer Anzahlung von 100 Euro verbindlich gebucht.
URL:https://freitagstrasse.de/veranstaltung/ein-kurs-in-selbstliebe/
CATEGORIES:Workshop
ATTACH;FMTTYPE=image/jpeg:https://freitagstrasse.de/wp-content/uploads/2021/06/IMAGE-2021-06-20-170754.jpg
END:VEVENT
END:VCALENDAR