BEGIN:VCALENDAR
VERSION:2.0
PRODID:-//Freitagstrasse - ECPv6.15.20//NONSGML v1.0//EN
CALSCALE:GREGORIAN
METHOD:PUBLISH
X-WR-CALNAME:Freitagstrasse
X-ORIGINAL-URL:https://freitagstrasse.de
X-WR-CALDESC:Veranstaltungen für Freitagstrasse
REFRESH-INTERVAL;VALUE=DURATION:PT1H
X-Robots-Tag:noindex
X-PUBLISHED-TTL:PT1H
BEGIN:VTIMEZONE
TZID:Europe/Berlin
BEGIN:DAYLIGHT
TZOFFSETFROM:+0100
TZOFFSETTO:+0200
TZNAME:CEST
DTSTART:20230326T010000
END:DAYLIGHT
BEGIN:STANDARD
TZOFFSETFROM:+0200
TZOFFSETTO:+0100
TZNAME:CET
DTSTART:20231029T010000
END:STANDARD
BEGIN:DAYLIGHT
TZOFFSETFROM:+0100
TZOFFSETTO:+0200
TZNAME:CEST
DTSTART:20240331T010000
END:DAYLIGHT
BEGIN:STANDARD
TZOFFSETFROM:+0200
TZOFFSETTO:+0100
TZNAME:CET
DTSTART:20241027T010000
END:STANDARD
BEGIN:DAYLIGHT
TZOFFSETFROM:+0100
TZOFFSETTO:+0200
TZNAME:CEST
DTSTART:20250330T010000
END:DAYLIGHT
BEGIN:STANDARD
TZOFFSETFROM:+0200
TZOFFSETTO:+0100
TZNAME:CET
DTSTART:20251026T010000
END:STANDARD
END:VTIMEZONE
BEGIN:VEVENT
DTSTART;TZID=Europe/Berlin:20240927T110000
DTEND;TZID=Europe/Berlin:20240930T160000
DTSTAMP:20260419T224313
CREATED:20240208T210423Z
LAST-MODIFIED:20240715T103107Z
UID:2859-1727434800-1727712000@freitagstrasse.de
SUMMARY:MESCH - schamanische Ausbildung
DESCRIPTION:Beginn: 27. September 2024  Ende: 28. September 2025  \n\n\n\nDiese Jahres-Ausbildung vermittelt und verbindet wesentliche Grundkompetenzen aus keltisch-schamanischer Energiemedizin\, Gestalttherapie\, systemischer Therapie und europäischer Naturmedizin. Die Verbindung von modernen therapeutischen Sichtweisen des letzten Jahrhunderts mit dem alten Wissen unserer Ahnen ermöglichen eine flexible\, passgenaue Heilarbeit\, die zu den Ansprüchen unserer modernen Welt und Zeit passt. Schamanische Arbeit von heute kann auch bedeuten\, im Großstadttrubel\, jenseits von Urwald und Abgeschiedenheit kraftvoll wirken zu können und eigene Arbeitsfelder wie z.B. Baubiologie\, Psychologische Beratung etc. mit einbinden zu können. \n\n\n\nDie MESCH – Ausbildung (Modern\, Europäisch\, SCHamanisch) bedeutet spirituelle und heilerische Selbstermächtigung. Alle Grundkompetenzen werden anhand des eigenen Entwicklungs- und Selbstheilungsweges erlangt. Dabei folgen wir der Energie der 7 Chakren (aus dem Sanskrit\, bedeutet: Kreis\, Bewegung\, Rad) im keltischen „Flammen“ genannt. Brennt jede Flamme kraftvoll und hell\, erstrahlt auch der Lichtkörper in seiner ganzen Kraft. Bist du mit dir diesen Weg ein Jahr lang gegangen\, hast du deine Wunden geheilt bzw. im Blick\, bist du dir deiner selbst bewusst\, steht es dir frei\, dich für den Weg des schamanisch arbeitenden Heilers/Heilerin zu ermächtigen. Die Kräfte sind in dir und die Ausbildung kann dir helfen\, sie zu wecken und zu entwickeln. \n\n\n\nInhalte der Ausbildung sind: \n\n\n\n\nalle Techniken\, Kompetenzen und Werkzeuge\, um professionell als schamanischer Heiler/Heilerin praktizieren zu können\n\n\n\ntherapeutische Grundlagen (aus Gestalttherapie\, systemisch-schamanische Familienaufstellungen)\n\n\n\nShamanic Reading – erlernen des schamanischen Lesens im morphischen Bewusstseinsfeld\n\n\n\nGrundlagen der Arbeit mit Klienten – Set & Setting \n\n\n\nEmotionale Stabilität und Entfaltung \n\n\n\nEntwickeln der eigenen Schöpferkraft und Heilerkompetenz\n\n\n\n\nWährend des Ausbildungsjahres sind folgende Einzelsessions mindestens 1 x zusätzlich zu absolvieren. Lichtkörperheilung\, Anam ArAis und Shamanic Reading. Sie sind Bestandteil der Ausbildung und Voraussetzung für das Zertifikat. Die Behandlungen sind nicht im Ausbildungspreis enthalten und werden separat berechnet.  \n\n\n\nDie Ausbildung ermöglicht dir: \n\n\n\n\nprofessionell zu praktizieren\n\n\n\ndeine Selbstheilung in die eigene Hand zu nehmen\n\n\n\nfür deine Familie hilfreich zu wirken\n\n\n\nin deinem bestehenden Beruf breiter wirksam zu werden\n\n\n\nein neues\, berufliches Wirkungsfeld aufzubauen \n\n\n\nan den weiterführenden MESCH – Aufbaukursen teilzunehmen\n\n\n\n\nVoraussetzung für eine Teilnahmebescheinigung: Teilnahme an allen Blöcken und Einzelsessions \n\n\n\nVoraussetzung für das Zertifikat: wie bei Teilnahmebescheinigung + bestandener Prüfung \n\n\n\n8 Ausbildungstermine: \n\n\n\n2024   27. – 29.09.24 / 06.-08.12.24  \n\n\n\n2025   31.01. – 02.02. / 04. – 06.04. / 28.05. – 01.06. Intensivblock / 04. – 06-07. / 29. – 31.08. / 26. – 28.09. Abschluss \n\n\n\nKurszeiten: Freitag 11 – 19 Uhr / Samstag 10 – 19 Uhr / Sonntag 10 – 16 Uhr \n\n\n\nAlle Blöcke werden in Zusammenarbeit mit meinem Mann Micha ausgerichtet. \n\n\n\nKosten: 2990 € (Ratenzahlung möglich) zuzüglich Einzelsitzungen (Lichtkörperheilung 120 min = 200 € / Anam Ar Ais 60 min = 100 € / Shamanic Reading 60 min = 120 €) \n\n\n\nMit einer Anzahlung von 300 € ist dein Platz verbindlich gebucht. \n\n\n\nAusbildungsort: Freitagstrasse 4 in Zwickau – Jurte \n\n\n\nFür Übernachtung und Verpflegung wird selber Sorge getragen. Eine Küche und ein Aufenthaltsraum stehen an den Wochenenden zur Verfügung. \n\n\n\nWichtig zu wissen: \n\n\n\nDie zur Erstellung der schamanischen Werkzeuge benötigten Utensilien wie Leder\, Kristalle\, Steine\, besorgst du dir selber\, da diese sehr individuell sein dürfen. Du bekommst rechtzeitig Bescheid was du brauchst.  \n\n\n\nMindestteilnehmerzahl: 6  (max. 10) wird die Mindestteilnehmerzahl nicht erreicht\, behalte ich mir vor\, die Ausbildung zu verschieben. \n\n\n\nAlle Blöcke bauen aufeinander auf und bedingen sich\, es kann kein Block ausgelassen werden. Sollte es für einen Termin unlösbare Schwierigkeiten geben\, sprich vorher mit mir ob und wie eine individuelle Nachhole-Lösung gefunden werden kann. Dies geschieht auf eigene Kosten und darf maximal einen Block betreffen. \n\n\n\nRatenzahlungen müssen vor Kursbeginn mit mir abgesprochen werden. \n\n\n\nZahlungen bitte auf folgendes Konto; Anke Frackmann DE14 8705 0000 1190 0884 16 Verwendung: Mesch 2024 \n\n\n\nBei Absage deiner Teilnahme berechne ich folgende Bearbeitungsgebühr (ein Ersatzteilnehmer kann natürlich deinen Platz einnehmen\, damit entfallen die Stornokosten):  \n\n\n\nab 3 Monate vor Beginn die Höhe der Anzahlung / ab 2 Monate vor Beginn 50 % / ab 4 Wochen vor Beginn 100%  \n\n\n\nMach dir bewusst\, dass unsere Ausbildungen einen hohen Anteil an Selbsterfahrung beinhalten und dass es sich dabei nicht um eine psychotherapeutische Maßnahme handelt. Mit deiner Anmeldung bestätigst du\, dass bei dir keine psychologischen und psychiatrischen Einschränkungen für die Teilnahme vorliegen und dass du mit allem\, was sich während der Ausbildung entwickelt eigenverantwortlich umgehst. \n\n\n\n\n\n\n\n\n\n\n\n\nJetzt anmelden\n\n\n\n\n\n\n\n\n\n\n\n\nEinblicke\n\n\n\n\nSchamanische Energiearbeit\n\n\n\nWerkzeuge\n\n\n\nRituelles Feuer\n\n\n\nHerbstaltar\n\n\n\nAhnenaltar\n\n\n\nBlick in den Garten\n\n\n\nNaturgeister Amanita\n\n\n\nunsere Jurte
URL:https://freitagstrasse.de/veranstaltung/mesch-schamanische-basisausbildung/
CATEGORIES:Ausbildung
ATTACH;FMTTYPE=image/png:https://freitagstrasse.de/wp-content/uploads/2024/02/Schaman_Tablet.png
END:VEVENT
END:VCALENDAR