BEGIN:VCALENDAR
VERSION:2.0
PRODID:-//Freitagstrasse - ECPv6.15.20//NONSGML v1.0//EN
CALSCALE:GREGORIAN
METHOD:PUBLISH
X-ORIGINAL-URL:https://freitagstrasse.de
X-WR-CALDESC:Veranstaltungen für Freitagstrasse
REFRESH-INTERVAL;VALUE=DURATION:PT1H
X-Robots-Tag:noindex
X-PUBLISHED-TTL:PT1H
BEGIN:VTIMEZONE
TZID:Europe/Berlin
BEGIN:DAYLIGHT
TZOFFSETFROM:+0100
TZOFFSETTO:+0200
TZNAME:CEST
DTSTART:20230326T010000
END:DAYLIGHT
BEGIN:STANDARD
TZOFFSETFROM:+0200
TZOFFSETTO:+0100
TZNAME:CET
DTSTART:20231029T010000
END:STANDARD
BEGIN:DAYLIGHT
TZOFFSETFROM:+0100
TZOFFSETTO:+0200
TZNAME:CEST
DTSTART:20240331T010000
END:DAYLIGHT
BEGIN:STANDARD
TZOFFSETFROM:+0200
TZOFFSETTO:+0100
TZNAME:CET
DTSTART:20241027T010000
END:STANDARD
BEGIN:DAYLIGHT
TZOFFSETFROM:+0100
TZOFFSETTO:+0200
TZNAME:CEST
DTSTART:20250330T010000
END:DAYLIGHT
BEGIN:STANDARD
TZOFFSETFROM:+0200
TZOFFSETTO:+0100
TZNAME:CET
DTSTART:20251026T010000
END:STANDARD
END:VTIMEZONE
BEGIN:VEVENT
DTSTART;TZID=Europe/Berlin:20240504T090000
DTEND;TZID=Europe/Berlin:20240519T170000
DTSTAMP:20260420T084520
CREATED:20240103T204516Z
LAST-MODIFIED:20240111T003801Z
UID:2757-1714813200-1716138000@freitagstrasse.de
SUMMARY:Pilgern mal anders - mit Micha auf den Camino del Norte
DESCRIPTION:Camino del Norte vom 04. – 19. Mai 2024 \n\n\n\nEin neues Pilgerabenteuer steht vor der Tür. Der zweite Teil des Camino del Norte ruft.  \n\n\n\nSüdliche Sonne\, der Ozean\, ein Weg unter den Füßen den schon viele Suchende gegangen sind. Zeit mit dir allein\, gute Gespräche in der Gruppe und Coachings mit mir zu allen Themen die dich bewegen. Schlafen im Freien\, im Zelt oder in Pilgerherbergen\, am Strand\, in den Bergen oder in einem Bett\, ohne zu wissen wo du abends sein wirst. Ein wirkliches Abenteuer im 21. Jahrhundert.Steig aus dem Hamsterrad. Du fragst dich warum du hier auf dieser Erde bist? Finde es heraus\, komm dir ein Stück näher und schau was dich erfüllt. Spür dich in Körper\, Geist und Seele.  \n\n\n\nSeit 15 Jahren bin ich auf den Pilgerwegen Europas unterwegs. Deutschland\, Schweiz\, Frankreich\, Italien und natürlich Spanien. Mehr als 12.000 km Weg haben meine Füße gesehen. Ich weiß wie es sich anfühlt\, den Weg fast zu rennen und auch\, und ich liebe es\, gemütlich zu schlendern. Auf diesem Weg plane ich ca. 20 km pro Tag. Sollten wir deutlich schneller unterwegs sein besteht die Chance\, weiter in Richtung Finisterre weiterzulaufen. Das entscheiden wir gemeinsam wenn es soweit ist. Wenn du mit mir unterwegs bist ist fast alles möglich. Du und jeder der mit uns geht darf sein wie er ist. Egal welche Interaktion daraus schlussfolgert ist zu allererst nur eins spannend. Wer bist du? Wer möchtest du sein? Wohin geht dein Weg? Was wünscht sich deine Seele zu erfahren? Psychologie\, Spiritualität\, Spaß am Leben\, Sinnsuche. Das alles gibt es zu entdecken und noch mehr. Dabei geht es nicht darum wie es richtig ist. Es geht nicht um Religion oder eine Lehre. Es geht darum\, dich in deiner Einzigartigkeit zu erkennen und deinen ganz eigenen Weg zu kreieren. Ich habe keine Lösungen für dich aber ich stelle die richtigen Fragen oder habe immer eine eigene oder von anderen erzählte Geschichte parat\, die dir neue Möglichkeiten\, neue Denkräume erschließt. Nichts ist nur so\, es könnte so oder auch ganz anders sein. Du bist frei\, deine eigene Realität neu zu kreieren.  \n\n\n\nIch bewege mich seit vielen Jahren durch diese Themen. Habe die Schulbank zu den Themen Psychologie\, Familientherapie\, Tantra\, Sexualität\, morphischem Feldlesen und vielem mehr gedrückt und auf alles\, was ich im Nähkasten habe\, kannst du auf unserer gemeinsame Reise zurückgreifen. Dabei geht es lustig zu. Alles ist heilig auch und ganz besonders der Spaß und die Freude. Vom tiefen Gespräch bis zum flachen Witz darf alles dabei sein. Ich kann dir eines versprechen\, du kommst anders wieder als du los gezogen bist. In den letzten Jahren habe ich viele Menschen begleitet und es hat deren Leben immer auf die eine oder andere Weise verändert.  \n\n\n\nBitte beachte: Im Preis sind alle Indoorübernachtungen enthalten. In diesem Fall schlafen wir in den Pilgerherbergen am Weg. Der Grundgedanke ist jedoch draußen in der Natur zu schlafen. Wir entscheiden jeweils gemeinsam in der Gruppe wann wir uns für Betten entscheiden. Es besteht kein Anspruch auf ein tägliches Bett. Zur Ausrüstung für den Weg gehört dementsprechend ein leichtes Zelt\, Isomatte und Schlafsack. \n\n\n\nDie An- und Abreise erfolgt in eigener Regie. Der geeignetste Flughafen für die Anreise ist der Flughafen Asturias. Dieser liegt nur 15 km vom Startpunkt unserer Reise entfernt. Santiago hat seinen eigenen Flughafen der zur Rückreise genutzt werden kann. \n\n\n\nFür Fragen in jeglicher Art stehe ich dir gerne jederzeit zur Verfügung. \n\n\n\nIch freu mich auf dich! \n\n\n\nBeginn:                       04.05.2024  9:00 Uhr in Aviles   \n\n\n\nAbschluss:                 19.05.2024 vor der Kathedrale in Santiago \n\n\n\nReisepreis:                 1850 € inkl. Übernachtung ohne Anreise und Verpflegung  \n\n\n\nFrühbucherpreis: gültig bis 15.02.24     1700 € inkl. Übernachtung ohne Anreise und Verpflegung \n\n\n\nMit deiner Anmeldung und Anzahlung von 300 € bist du verbindlich angemeldet. \n\n\n\nTeilnehmerzahl max. 7 Personen \n\n\n\nBitte beachte: Bei Absage deiner Teilnahme berechnen wir folgende Bearbeitungsgebühr.  \n\n\n\n  ab 3 Monate vor Beginn die Höhe der Anzahlung \n\n\n\n  ab 4 Wochen vor Beginn 50% \n\n\n\n  ab 2 Wochen vor Beginn 100 % \n\n\n\n\n\n\n\n\nJetzt anmelden\n\n\n\n\n\n\n\n\n\n\n\n\n\n\n\n\n\n\n\n\n\n\n\n\n\n\n\n\n\n\n\n\n\n\n\n\n\n\n\n\n\n\n\n\n\n\n\n\n\nMicha Pilgerbegleitung
URL:https://freitagstrasse.de/veranstaltung/2757/
ATTACH;FMTTYPE=image/png:https://freitagstrasse.de/wp-content/uploads/2023/11/anke2024_photo_of_an_old_pilgrim_with_long_hair_and_harem_pants_6ff2253f-2044-452c-8c27-c4412e0b3ab5.png
END:VEVENT
END:VCALENDAR