BEGIN:VCALENDAR
VERSION:2.0
PRODID:-//Freitagstrasse - ECPv6.15.20//NONSGML v1.0//EN
CALSCALE:GREGORIAN
METHOD:PUBLISH
X-ORIGINAL-URL:https://freitagstrasse.de
X-WR-CALDESC:Veranstaltungen für Freitagstrasse
REFRESH-INTERVAL;VALUE=DURATION:PT1H
X-Robots-Tag:noindex
X-PUBLISHED-TTL:PT1H
BEGIN:VTIMEZONE
TZID:Europe/Berlin
BEGIN:DAYLIGHT
TZOFFSETFROM:+0100
TZOFFSETTO:+0200
TZNAME:CEST
DTSTART:20220327T010000
END:DAYLIGHT
BEGIN:STANDARD
TZOFFSETFROM:+0200
TZOFFSETTO:+0100
TZNAME:CET
DTSTART:20221030T010000
END:STANDARD
BEGIN:DAYLIGHT
TZOFFSETFROM:+0100
TZOFFSETTO:+0200
TZNAME:CEST
DTSTART:20230326T010000
END:DAYLIGHT
BEGIN:STANDARD
TZOFFSETFROM:+0200
TZOFFSETTO:+0100
TZNAME:CET
DTSTART:20231029T010000
END:STANDARD
BEGIN:DAYLIGHT
TZOFFSETFROM:+0100
TZOFFSETTO:+0200
TZNAME:CEST
DTSTART:20240331T010000
END:DAYLIGHT
BEGIN:STANDARD
TZOFFSETFROM:+0200
TZOFFSETTO:+0100
TZNAME:CET
DTSTART:20241027T010000
END:STANDARD
END:VTIMEZONE
BEGIN:VEVENT
DTSTART;TZID=Europe/Berlin:20231013T150000
DTEND;TZID=Europe/Berlin:20231015T170000
DTSTAMP:20260420T193804
CREATED:20221123T235918Z
LAST-MODIFIED:20230828T204738Z
UID:2063-1697209200-1697389200@freitagstrasse.de
SUMMARY:Einfach mal nur Mann sein - ein Männerwochenende
DESCRIPTION:13. – 15. Oktober 2023 \n\n\n\nWas bedeutet Mann sein heute und was macht einen Mann heute aus? Wer bist du\, wenn du einen Raum betreten kannst der dich sein lässt\, wenn du mit Männern bist\, die sich die gleichen Fragen stellen? Was bedeutet für dich Abenteuer? Gibt es diese heute noch? Im 21. Jahrhundert? Bist du neugierig? Komm zum Männerwochenende! Schlafen im Freien oder im Zelt. Zeit unter Männern. Mut\, sich zu trauen und sich zu zeigen soweit du das kannst und es sich sicher fühlt. Tun was Männer im Wald tun\, gemeinsam mit der Axt Bäume fällen\, miteinander kämpfen wenn du dich da ausprobieren magst. Alles das sein\, was die Welt oder du dir selbst sonst nicht zugestehst. Wir werden uns über die Wut und ihre Potenziale unterhalten und heraus finden\, wieso es in dieser Zeit so herausfordernd ist Mann zu sein. Wer bist du als Mann\, was macht dich aus und wo lebst du dich noch nicht? Was ist mit deiner Sexualität los\, traust du dich sie auszuleben? \n\n\n\nEingefügt in einem weiten Rahmen ist Platz für all die Themen die ihr mitbringt. Ein Wochenende gemeinsam mit Brüdern draußen im Freien egal wie das Wetter wird. Mann und Natur pur! \n\n\n\nHast du Lust? Fühl dich eingeladen und melde dich an. Maximal 10 Männer werden in der Gruppe sein. \n\n\n\nIch steh euch mit allem was meine Toolbox zu bieten hat zur Verfügung. \n\n\n\nFür die Verpflegung sorgen wir gemeinsam. \n\n\n\nEnergieausgleich: 450 €  \n\n\n\nMit der Anzahlung von 100 € ist deine Anmeldung verbindlich. \n\n\n\n\n\n\n\n\nJetzt anmelden\n\n\n\n\n\n\n\n\nBitte beachte: bei Absage deiner Teilnahme berechne ich folgende Storno- und Bearbeitungsgebühr: \n\n\n\n\nab 3 Monate vor Beginn die Höhe der Anzahlung\n\n\n\nab 4 Wochen vor Beginn 50 %\n\n\n\nab 2 Wochen vor Beginn 100 %
URL:https://freitagstrasse.de/veranstaltung/ein-kurs-im-mann-sein-2/
CATEGORIES:Workshop
ATTACH;FMTTYPE=image/jpeg:https://freitagstrasse.de/wp-content/uploads/2022/11/Micha-auf-Baumstumpf.jpg
END:VEVENT
END:VCALENDAR