BEGIN:VCALENDAR
VERSION:2.0
PRODID:-//Freitagstrasse - ECPv6.15.20//NONSGML v1.0//EN
CALSCALE:GREGORIAN
METHOD:PUBLISH
X-ORIGINAL-URL:https://freitagstrasse.de
X-WR-CALDESC:Veranstaltungen für Freitagstrasse
REFRESH-INTERVAL;VALUE=DURATION:PT1H
X-Robots-Tag:noindex
X-PUBLISHED-TTL:PT1H
BEGIN:VTIMEZONE
TZID:Europe/Berlin
BEGIN:DAYLIGHT
TZOFFSETFROM:+0100
TZOFFSETTO:+0200
TZNAME:CEST
DTSTART:20220327T010000
END:DAYLIGHT
BEGIN:STANDARD
TZOFFSETFROM:+0200
TZOFFSETTO:+0100
TZNAME:CET
DTSTART:20221030T010000
END:STANDARD
BEGIN:DAYLIGHT
TZOFFSETFROM:+0100
TZOFFSETTO:+0200
TZNAME:CEST
DTSTART:20230326T010000
END:DAYLIGHT
BEGIN:STANDARD
TZOFFSETFROM:+0200
TZOFFSETTO:+0100
TZNAME:CET
DTSTART:20231029T010000
END:STANDARD
BEGIN:DAYLIGHT
TZOFFSETFROM:+0100
TZOFFSETTO:+0200
TZNAME:CEST
DTSTART:20240331T010000
END:DAYLIGHT
BEGIN:STANDARD
TZOFFSETFROM:+0200
TZOFFSETTO:+0100
TZNAME:CET
DTSTART:20241027T010000
END:STANDARD
END:VTIMEZONE
BEGIN:VEVENT
DTSTART;TZID=Europe/Berlin:20230905T093000
DTEND;TZID=Europe/Berlin:20230916T160000
DTSTAMP:20260420T204844
CREATED:20230821T084343Z
LAST-MODIFIED:20230821T084346Z
UID:2553-1693906200-1694880000@freitagstrasse.de
SUMMARY:Jacobsweg Frankreich - Via Podiensis von Le Puy en Velay - Figeac
DESCRIPTION:Und manchmal kommt es anders… Jakobsweg Frankreich Via Podiensis von Le Puy-en Velay nach Figeac vom 05.-16.09.23 \n\n\n\nEigentlich war der Plan\, für diesen September wieder auf den Franziskusweg nach Italien zu gehen. Jetzt\, so kurz vor dem Start\, hat der Weg für mich dieses Jahr keine Energie. Mich zieht es nach Frankreich. Da ist Energie\, darauf hab ich Lust und so lade ich dich ein\, mitzukommen und eine der schönsten Wegstrecken des französischen Jakobsweges mit mir zu bewandern. Auf meinem Weg von Görlitz nach Santiago bin ich den Weg schon einmal gegangen und seine Faszination hält bis heute an.Praxis auf zwei Beinen würde meine Frau sagen. Was immer dich im Leben gerade bewegt\, hat Zeit um angeschaut zu werden. Suchst du Herausforderungen\, Antworten auf deine aktuellen Lebensfragen? Suchst du nach Visionen für dein Leben oder willst du mit alten Mustern aufräumen?Ich bin mit allem was ich in meinem Werkzeugkoffer habe für dich und die Gruppe da.Lass uns aus systemischer\, gestalttherapeutischer\, spiritueller und philosophischer Sicht auf deine Themen schauen. Lass uns in deinem morphischen Feld lesen oder deine Themen in einer Aufstellung anschauen.Kein Thema was nicht seinen Raum finden kann. Familie\, Job\, Sexualität\, Werte oder der Sinn des eigenen Seins – alles darf sein. Der Weg wird dein Leben verändern. \n\n\n\nÜbernachten werden wir in Pilgerherbergen und vor allem im Zelt. Nirgendwo ist Mensch unabhängiger und freier als mit dem Haus auf seinem Rücken. Kein Rennen um einen Platz in der Pilgerherberge und keine Streckenplanung\, sondern einfach da schlafen wo es am schönsten ist oder wenn man müde wird. \n\n\n\nIm Reisepreis sind die Kosten für die Übernachtung inbegriffen. Da wir oft im Zelt schlafen\, ergibt sich daraus jedoch kein Anspruch auf eine tägliche Übernachtung in einer Herberge.Anreise und Verpflegung erfolgen in Eigenregie. Der Preis bezieht sich auf Start in Le-Puy-en-Velay und Ziel am 16.9. nachmittags\, wo auch immer wir ankommen werden.Die Anreise erfolgt am einfachsten über Lyon und die Abreise über Toulouse (von Leipzig oder Dresden recht günstig mit Lufthansa) und dann mit Bus oder Bahn. \n\n\n\nStart 05.09.2023 9.30 Uhr vor der Kathedrale von Le-Puy-en-VelayEnde 16.09.2023 ca.16.00 an einem Bahnhof zwischen Conques undFigeac (optimaler Rückflug am 18.9.)Preis 1450 €(Ratenzahlung ist möglich\, bitte vorher mit mir absprechen) \n\n\n\nMit der Buchung und einer Anzahlung von 300 € ist dein Platz sicher und du bekommst vorab eine Packempfehlung zugesandt. Ich freu mich auf dich. \n\n\n\nBei Fragen erreichst du mich unter 0172-3711312.
URL:https://freitagstrasse.de/veranstaltung/jacobsweg-frankreich-via-podiensis-von-le-puy-en-velay-figeac/
CATEGORIES:Pilgern
ATTACH;FMTTYPE=image/jpeg:https://freitagstrasse.de/wp-content/uploads/2023/08/FRA-Weitblick.jpg
END:VEVENT
END:VCALENDAR