BEGIN:VCALENDAR
VERSION:2.0
PRODID:-//Freitagstrasse - ECPv6.15.20//NONSGML v1.0//EN
CALSCALE:GREGORIAN
METHOD:PUBLISH
X-WR-CALNAME:Freitagstrasse
X-ORIGINAL-URL:https://freitagstrasse.de
X-WR-CALDESC:Veranstaltungen für Freitagstrasse
REFRESH-INTERVAL;VALUE=DURATION:PT1H
X-Robots-Tag:noindex
X-PUBLISHED-TTL:PT1H
BEGIN:VTIMEZONE
TZID:Europe/Berlin
BEGIN:DAYLIGHT
TZOFFSETFROM:+0100
TZOFFSETTO:+0200
TZNAME:CEST
DTSTART:20220327T010000
END:DAYLIGHT
BEGIN:STANDARD
TZOFFSETFROM:+0200
TZOFFSETTO:+0100
TZNAME:CET
DTSTART:20221030T010000
END:STANDARD
BEGIN:DAYLIGHT
TZOFFSETFROM:+0100
TZOFFSETTO:+0200
TZNAME:CEST
DTSTART:20230326T010000
END:DAYLIGHT
BEGIN:STANDARD
TZOFFSETFROM:+0200
TZOFFSETTO:+0100
TZNAME:CET
DTSTART:20231029T010000
END:STANDARD
BEGIN:DAYLIGHT
TZOFFSETFROM:+0100
TZOFFSETTO:+0200
TZNAME:CEST
DTSTART:20240331T010000
END:DAYLIGHT
BEGIN:STANDARD
TZOFFSETFROM:+0200
TZOFFSETTO:+0100
TZNAME:CET
DTSTART:20241027T010000
END:STANDARD
END:VTIMEZONE
BEGIN:VEVENT
DTSTART;TZID=Europe/Berlin:20230525T080000
DTEND;TZID=Europe/Berlin:20230528T170000
DTSTAMP:20260421T021924
CREATED:20221124T000451Z
LAST-MODIFIED:20221124T000452Z
UID:2042-1685001600-1685293200@freitagstrasse.de
SUMMARY:Schnupperpilgern mit Micha & Anke
DESCRIPTION:Männer und Frauen auf dem Weg – Schnupperpilgern für Neugierige \n\n\n\nDiese 4 Tage geben dir Raum und Zeit\, um mit dir zu gehen und doch nicht allein zu sein. Wir gehen in einer kleinen Gruppe von Frauen und Männern und erkunden zusammen sowohl den Weg\, als auch uns selbst. Dieser führt entlang des ökumenischen Pilgerpfades quer durch Sachsen. Es ist eine Zeit nur für dich\, jenseits des Alltags und jenseits familiärer Pflichten. Du kannst dich entscheiden\, diese Tage ganz und gar dir zu schenken und sogar das Handy zu Hause lassen (oder zumindest ausgeschaltet im Rucksack) – eine ganz besondere Erfahrung. Was passiert wenn nur ICH wichtig bin\, nur mein Rhythmus\, mein Atem\, mein Körper\, mein Geist spielt eine Rolle und will beachtet werden. Das besondere ist\, diese 4 Tage lassen dich alle Aspekte einer Pilgertour erleben: Aufregung – schaffe ich es? Zweifel – ob das eine gute Idee war? Erschöpfung – der Körper ist es nicht gewohnt. Müdigkeit – von so viel Sauerstoff. Frustration – hätte ich das bloß nicht gemacht. Freude – ist Sachsen schön! Genuss – bei der Rast unterwegs. Seligkeit – am Abend in der Herberge. Zufriedenheit – ich hab es tatsächlich geschafft! Wenn du also schon immer mal ausprobieren wolltest\, wie pilgern geht\, dann ist das hier deine Chance. \n\n\n\nWir begleiten dich nicht nur auf dem Weg\, sondern stehen dir auch mit all unserer Praxiserfahrung als Coaches\, Mentoren oder Therapeuten zur Seite.  \n\n\n\nDie Tagesstrecken von 15 – 20 km werden gut zu schaffen sein. Eine normale Alltagsfitness ist völlig ausreichend. Alles was wir brauchen haben wir im Rucksack dabei. Geschlafen wir in einfachen Pilgerunterkünften. \n\n\n\nUnsere Tour startet am 25. Mai in Görlitz und endet in der Pilgerherberge in Crostwitz in der Nähe von Kamenz. Von Crostwitz aus kann ein Sammeltaxi zum Bahnhof Kamenz organisiert werden. \n\n\n\nWenn du neugierig geworden bist\, melde dich gerne an\, wir senden dir dann eine Packliste zur Vorbereitung zu.  \n\n\n\nMit der Anzahlung von 100 € ist deine Anmeldung verbindlich. \n\n\n\n377 € inklusive Übernachtung / exclusive An- und Abreise (erfolgt in Eigenregie nach Göritz / ab Crostwitz) \n\n\n\nPilgerbegleitung: Anke & Micha \n\n\n\n\n\n\n\n\nJetzt anmelden\n\n\n\n\n\n\n\n\nBitte beachte: Bei Absage deiner Teilnahme berechnen wir folgende Bearbeitungsgebühr. \n\n\n\n\nab 3 Monate vor Beginn die Höhe deiner Anzahlung\n\n\n\nab 4 Wochen vor Beginn 50 %\n\n\n\nab 2 Wochen vor Beginn 100 %
URL:https://freitagstrasse.de/veranstaltung/schnupperpilgern-mit-micha-anke/
CATEGORIES:Pilgern
ATTACH;FMTTYPE=image/jpeg:https://freitagstrasse.de/wp-content/uploads/2022/11/Pfingstpilgern-22-1.jpg
END:VEVENT
END:VCALENDAR