BEGIN:VCALENDAR
VERSION:2.0
PRODID:-//Freitagstrasse - ECPv6.15.20//NONSGML v1.0//EN
CALSCALE:GREGORIAN
METHOD:PUBLISH
X-WR-CALNAME:Freitagstrasse
X-ORIGINAL-URL:https://freitagstrasse.de
X-WR-CALDESC:Veranstaltungen für Freitagstrasse
REFRESH-INTERVAL;VALUE=DURATION:PT1H
X-Robots-Tag:noindex
X-PUBLISHED-TTL:PT1H
BEGIN:VTIMEZONE
TZID:Europe/Berlin
BEGIN:DAYLIGHT
TZOFFSETFROM:+0100
TZOFFSETTO:+0200
TZNAME:CEST
DTSTART:20220327T010000
END:DAYLIGHT
BEGIN:STANDARD
TZOFFSETFROM:+0200
TZOFFSETTO:+0100
TZNAME:CET
DTSTART:20221030T010000
END:STANDARD
BEGIN:DAYLIGHT
TZOFFSETFROM:+0100
TZOFFSETTO:+0200
TZNAME:CEST
DTSTART:20230326T010000
END:DAYLIGHT
BEGIN:STANDARD
TZOFFSETFROM:+0200
TZOFFSETTO:+0100
TZNAME:CET
DTSTART:20231029T010000
END:STANDARD
BEGIN:DAYLIGHT
TZOFFSETFROM:+0100
TZOFFSETTO:+0200
TZNAME:CEST
DTSTART:20240331T010000
END:DAYLIGHT
BEGIN:STANDARD
TZOFFSETFROM:+0200
TZOFFSETTO:+0100
TZNAME:CET
DTSTART:20241027T010000
END:STANDARD
END:VTIMEZONE
BEGIN:VEVENT
DTSTART;TZID=Europe/Berlin:20230510T100000
DTEND;TZID=Europe/Berlin:20230524T190000
DTSTAMP:20260421T032830
CREATED:20221124T000018Z
LAST-MODIFIED:20230222T135952Z
UID:2038-1683712800-1684954800@freitagstrasse.de
SUMMARY:Pilger-Retreat mit Micha - Camino del Norte - Spanien
DESCRIPTION:Pilger-Retreat mit Micha – Spanien Ein neues Pilgerabenteuer steht vor der Tür. 2023 wird vieles neu.Zuerst der Weg. Der Camino del Norte führt von Irun über rund 800 km bis nach Santiago de Compostella. Unser Weg wird in Bilbao beginnen und uns über zwei Wochen\, immer entlang des Atlantiks an ein unbekanntes Ziel bringen. Ich selbst bin den Weg noch nie gegangen und es ist auch neu das es kein Ziel gibt. Kein Ziel ist wohl die größte Herausforderung unserer Zeit. Kein Ziel bedeutet\, keinen Zeitdruck zu haben und zu verweilen wo immer eses sich gut anfühlt. Es bedeutet\, nirgendwo zu einem bestimmten Zeitpunkt sein zu müssen. Nur eins ist bekannt – der Endtermin. Wo auch immer wir zu diesem Zeitpunkt ankommen wird es ein Verkehrsmittel geben das uns zu einem der möglichen Flughäfen bringt. Alles andere wird sich zeigen.Südliche Sonne\, der Ozean\, ein Weg unter den Füßen den schon viele Suchende gegangen sind. Zeit mit dir allein\, gute Gespräche in der Gruppe und Coachings mit mir zu allen Themen die dich bewegen.Schlafen im Freien\, im Zelt oder in Pilgerherbergen\, am Strand\, in den Bergen oder im Bett – alles ohne zu wissen wo du abends sein wirst. Ein wirkliches Abenteuer im 21. Jahrhundert.Steig aus aus dem Hamsterrad. Du fragst dich warum du hier auf dieser Erde bist? Finde es heraus\, komm dir ein Stück näher und schau was dich erfüllt. Spür dich in Körper Geist und Seele. \n\n\n\nFür so eine Tour braucht es einen Wegbegleiter der die Gabe hat\, planlos zu sein. Seit 14 Jahren pflege und kultiviere ich diese Begabung auf den Pilgerwegen Europas. Wir gehen nicht einfach nur pilgern. Meine Frau hat es mal sehr treffend als „Praxis auf zwei Beinen“ bezeichnet.Wenn du mit mir unterwegs bist\, ist fast alles möglich. Du und jeder der mit uns geht darf sein wie er ist. Wer bist du? Wer möchtest du sein? Wohin geht dein Weg? Was wünscht sich deine Seele zu erfahren? Psychologie\, Spiritualität\, Spaß am Leben und Sinnsuche – eine Heldenreise.Das alles gibt es zu entdecken. Dabei geht es nicht darum wie es richtig ist. Es geht nicht um Religion oder eine Lehre. Es geht darum\, dich in deiner Einzigartigkeit zu erkennen und deinen ganz eigenen Weg zu kreieren. Ich habe keine Lösungen für dich aber ich stelle die richtigen Fragen oder habe immer eine eigene oder von anderen erzählte Geschichte parat\, die dir neue Möglichkeiten\, neue Denkräume erschließt.Nichts ist so\, sondern könnte so oder eben auch anders sein. Du bist frei\, deine eigene Realität neu zu kreieren.Ich bewege mich seit vielen Jahren durch diese Themen. Habe die Schulbank zu den Themen Psychologie\, Familientherapie\, Tantra\, Sexualität\, Lesen im morphischem Feld und vielem mehr gedrückt und auf alles was ich im Nähkasten habe\, kannst du auf unserer gemeinsamen Reise zurück greifen. Dabei geht es lustig zu. Alles ist heilig\, auch und ganz besonders der Spaß und die Freude. Vom tiefen Gespräch bis zum heiteren Geplänkel wird alles dabei sein. Du kommst warscheinlich anders zurück als du los gezogen bist.  \n\n\n\nIch habe in den letzten Jahren viele Menschen begleitet und es hat deren Leben immer auf die eine oder andere Weise verändert. Wenn du Fragen hast melde dich einfach bei mir. Ich stehe gerne mit Rat und Tat zur Verfügung.Wichtig: im Preis sind alle Indoor-Übernachtungen inklusive. In diesem Fall schlafen wir in den Pilgerherbergen am Weg. Der Grundgedanke ist jedoch\, draußen in der Natur zu schlafen. Wir entscheiden jeweils gemeinsam in der Gruppe wann wir uns für Betten oder die freie Natur entscheiden.Es besteht kein Anspruch auf ein tägliches Bett.Zur unbedingten Ausrüstung für den Weg gehören dem entsprechend ein leichtes Zelt\, Isomatte und Schlafsack.Ich freu mich auf dich.Beginn:      10.05.2023 (Bilbao Kathedrale)Abschluss: 22.05.2023 (auf dem Weg vor Gijon)Retreatpreis: 1888 € inkl. Übernachtung (ohne An- und Abreise und Verpflegung)Frühbucherpreis bis 28.02.23: 1600 € inkl. Übernachtung (ohne An- und Abreise und Verpflegung)Mit einer Anmeldung über unsere Webseite und einer Anzahlung von 300 € bist du verbindlich angemeldet.Teilnehmerzahl max. 7 Personen \n\n\n\n\n\n\n\n\nJetzt anmelden\n\n\n\n\n\n\n\n\nBitte beachte: Bei Absage deiner Teilnahme berechne ich folgende Storno- und Bearbeitungsgebühr: \n\n\n\n\nab 3 Monate vor Beginn die Höhe der Anzahlung\n\n\n\nab 4 Wochen vor Beginn 50 %\n\n\n\nab 2 Wochen vor Beginn 100 %
URL:https://freitagstrasse.de/veranstaltung/pilger-retreat-mit-micha-camino-del-norte-spanien/
CATEGORIES:Pilgern,Workshop
ATTACH;FMTTYPE=image/jpeg:https://freitagstrasse.de/wp-content/uploads/2021/11/IMAGE-2022-03-16-231839-3.jpg
END:VEVENT
END:VCALENDAR