BEGIN:VCALENDAR
VERSION:2.0
PRODID:-//Freitagstrasse - ECPv6.15.20//NONSGML v1.0//EN
CALSCALE:GREGORIAN
METHOD:PUBLISH
X-WR-CALNAME:Freitagstrasse
X-ORIGINAL-URL:https://freitagstrasse.de
X-WR-CALDESC:Veranstaltungen für Freitagstrasse
REFRESH-INTERVAL;VALUE=DURATION:PT1H
X-Robots-Tag:noindex
X-PUBLISHED-TTL:PT1H
BEGIN:VTIMEZONE
TZID:Europe/Berlin
BEGIN:DAYLIGHT
TZOFFSETFROM:+0100
TZOFFSETTO:+0200
TZNAME:CEST
DTSTART:20220327T010000
END:DAYLIGHT
BEGIN:STANDARD
TZOFFSETFROM:+0200
TZOFFSETTO:+0100
TZNAME:CET
DTSTART:20221030T010000
END:STANDARD
BEGIN:DAYLIGHT
TZOFFSETFROM:+0100
TZOFFSETTO:+0200
TZNAME:CEST
DTSTART:20230326T010000
END:DAYLIGHT
BEGIN:STANDARD
TZOFFSETFROM:+0200
TZOFFSETTO:+0100
TZNAME:CET
DTSTART:20231029T010000
END:STANDARD
BEGIN:DAYLIGHT
TZOFFSETFROM:+0100
TZOFFSETTO:+0200
TZNAME:CEST
DTSTART:20240331T010000
END:DAYLIGHT
BEGIN:STANDARD
TZOFFSETFROM:+0200
TZOFFSETTO:+0100
TZNAME:CET
DTSTART:20241027T010000
END:STANDARD
END:VTIMEZONE
BEGIN:VEVENT
DTSTART;TZID=Europe/Berlin:20230325T093000
DTEND;TZID=Europe/Berlin:20230326T173000
DTSTAMP:20260421T052847
CREATED:20230202T015724Z
LAST-MODIFIED:20230202T015726Z
UID:2224-1679736600-1679851800@freitagstrasse.de
SUMMARY:Bondage - die hohe Kunst des Fesselns
DESCRIPTION:Bondage\, der Inbegriff für Vertrauen\, Hingabe und Loslassen.Als ich\, Micha\, mich das erste Mal in dieses Feld begeben habewar ich vorsichtig neugierig. Was es zu erleben gab war grandios. Sowohl als Fesselnder\, der die Kunst des Knotenserlernt\, als auch als Empfangender\, der in wirkliche Trance gerät\, der wirkliche Hingabe und Annahme erfährt.Natürlich hat Bondage auch Sinnlichkeit zu tun und es darf knistern. Für mich persönlich trägt auch die therapeutische Komponente ein enormes Potenzial in sich. Loslassen\, gehalten sein\, Kontrolle abgeben\, Bindungserleben sind nur einige der Erfahrungen die gemacht und nachgenährt werden können. \n\n\n\nWir möchten euch die Möglichkeit geben\, in die Welt des Fesselns einzutauchen und euch\, vielleicht zum ersten Mal\,am Seil zu versuchen. Dazu haben wir Bea Bally eingeladen. Eine begnadete Meisterin des Seils\, die schon seit vielen Jahren Menschen ihre Kunst lehrt. \n\n\n\nBeginn: 25.03.2023 9:30 UhrEnde:    26.03.2023 17:30 Uhr \n\n\n\nAnmeldung solo: 390 €Anmeldung als Paar pro Person: 366 € \n\n\n\nMit einer Anzahlung von 100 € ist deine Anmeldung verbindlich gebucht. \n\n\n\nFür deine Verpflegung trägst du selber Sorge. Du kannst unsere Küche nutzen oder es kann in einem Imbiss vor Ort bestellt werden. \n\n\n\nBitte beachte: Bei Absage deiner Teilnahme berechnen wir folgende Bearbeitungsgebühr. \n\n\n\n\nab 3 Monate vor Beginn die Höhe deiner Anzahlung\n\n\n\nab 4 Wochen vor Beginn 50 %\n\n\n\nab 2 Wochen vor Beginn 100 %\n\n\n\n\n\n\n\n\n\n\n\nJetzt anmelden\n\n\n\n\n\n\n\n\nBea Ballay
URL:https://freitagstrasse.de/veranstaltung/bondage-die-hohe-kunst-des-fesselns/
CATEGORIES:Workshop
ATTACH;FMTTYPE=image/jpeg:https://freitagstrasse.de/wp-content/uploads/2023/02/seile-natur.jpg
END:VEVENT
END:VCALENDAR