BEGIN:VCALENDAR
VERSION:2.0
PRODID:-//Freitagstrasse - ECPv6.15.20//NONSGML v1.0//EN
CALSCALE:GREGORIAN
METHOD:PUBLISH
X-ORIGINAL-URL:https://freitagstrasse.de
X-WR-CALDESC:Veranstaltungen für Freitagstrasse
REFRESH-INTERVAL;VALUE=DURATION:PT1H
X-Robots-Tag:noindex
X-PUBLISHED-TTL:PT1H
BEGIN:VTIMEZONE
TZID:Europe/Berlin
BEGIN:DAYLIGHT
TZOFFSETFROM:+0100
TZOFFSETTO:+0200
TZNAME:CEST
DTSTART:20210328T010000
END:DAYLIGHT
BEGIN:STANDARD
TZOFFSETFROM:+0200
TZOFFSETTO:+0100
TZNAME:CET
DTSTART:20211031T010000
END:STANDARD
BEGIN:DAYLIGHT
TZOFFSETFROM:+0100
TZOFFSETTO:+0200
TZNAME:CEST
DTSTART:20220327T010000
END:DAYLIGHT
BEGIN:STANDARD
TZOFFSETFROM:+0200
TZOFFSETTO:+0100
TZNAME:CET
DTSTART:20221030T010000
END:STANDARD
BEGIN:DAYLIGHT
TZOFFSETFROM:+0100
TZOFFSETTO:+0200
TZNAME:CEST
DTSTART:20230326T010000
END:DAYLIGHT
BEGIN:STANDARD
TZOFFSETFROM:+0200
TZOFFSETTO:+0100
TZNAME:CET
DTSTART:20231029T010000
END:STANDARD
END:VTIMEZONE
BEGIN:VEVENT
DTSTART;TZID=Europe/Berlin:20220715T100000
DTEND;TZID=Europe/Berlin:20220717T153000
DTSTAMP:20260421T175055
CREATED:20220313T180227Z
LAST-MODIFIED:20220320T191440Z
UID:1772-1657879200-1658071800@freitagstrasse.de
SUMMARY:Kurs in Selbstliebe - Ein Wochenendausflug zu dir selbst.
DESCRIPTION:Selbstliebe – heute so wichtig wie schon immer. Die Zeitqualität war noch nie so günstig. Die Hinwendung zu sich selbst\, das gut für sich selbst sorgen und das sich selbst in den Mittelpunkt seines Lebens stellen\, das haben wir meist nicht gelernt. Was wir gelernt haben ist\, das andere immer wichtiger sind als wir. Aufopferung für andere doch wo bleibst du selbst? Wann ist es genug? Dann wenn deine Kraft am Ende ist? Du nicht mehr kannst? Rücksicht auf andere nehmen\, ohne Rücksicht auf dich selbst. Kennst du die Angst\, als egoistisch bezeichnet zu werden wenn du zuerst an dich denkst?An diesem Wochenende möchten wir uns das Thema gemeinsam mit dir anschauen.Was glaubst du wenn du das Wort Selbstliebe hörst? Was macht das Wort Egoismus mit dir? Was sind deine Glaubenssätze? Was wäre wenn du\, gut mit Selbstliebe aufgetankt bist. Wie gut kannst du für andere da sein wenn du in deiner Kraft bist?Wie fühlt es sich an\, deine Grenzen gut zu waren und nicht über deine Kräfte zu gehen. Was brauchst DU für ein erfülltes Leben? Wie fühlt es sich an wenn du im Mittelpunkt deines Lebens stehst.Komm mit auf einen Wochenendausflug zu dir und wer weiß… vielleicht beschließt du danach ja gleich\, bei dir zu bleiben. Die Chancen stehen gut. \n\n\n\nMit einer Anzahlung von 100 € ist deine Anmeldung verbindlich gebucht. \n\n\n\n500 € mit Frühstück und Übernachtung in der Jurte450 € mit Frühstück ohne Übernachtung \n\n\n\n\n\n\n\n\nJetzt anmelden
URL:https://freitagstrasse.de/veranstaltung/kurs-in-selbstliebe-ein-wochenendausflug-zu-dir-selbst-2/
CATEGORIES:Workshop
ATTACH;FMTTYPE=image/jpeg:https://freitagstrasse.de/wp-content/uploads/2021/06/IMAGE-2021-06-20-170754.jpg
END:VEVENT
END:VCALENDAR