BEGIN:VCALENDAR
VERSION:2.0
PRODID:-//Freitagstrasse - ECPv6.15.20//NONSGML v1.0//EN
CALSCALE:GREGORIAN
METHOD:PUBLISH
X-ORIGINAL-URL:https://freitagstrasse.de
X-WR-CALDESC:Veranstaltungen für Freitagstrasse
REFRESH-INTERVAL;VALUE=DURATION:PT1H
X-Robots-Tag:noindex
X-PUBLISHED-TTL:PT1H
BEGIN:VTIMEZONE
TZID:Europe/Berlin
BEGIN:DAYLIGHT
TZOFFSETFROM:+0100
TZOFFSETTO:+0200
TZNAME:CEST
DTSTART:20210328T010000
END:DAYLIGHT
BEGIN:STANDARD
TZOFFSETFROM:+0200
TZOFFSETTO:+0100
TZNAME:CET
DTSTART:20211031T010000
END:STANDARD
BEGIN:DAYLIGHT
TZOFFSETFROM:+0100
TZOFFSETTO:+0200
TZNAME:CEST
DTSTART:20220327T010000
END:DAYLIGHT
BEGIN:STANDARD
TZOFFSETFROM:+0200
TZOFFSETTO:+0100
TZNAME:CET
DTSTART:20221030T010000
END:STANDARD
BEGIN:DAYLIGHT
TZOFFSETFROM:+0100
TZOFFSETTO:+0200
TZNAME:CEST
DTSTART:20230326T010000
END:DAYLIGHT
BEGIN:STANDARD
TZOFFSETFROM:+0200
TZOFFSETTO:+0100
TZNAME:CET
DTSTART:20231029T010000
END:STANDARD
END:VTIMEZONE
BEGIN:VEVENT
DTSTART;TZID=Europe/Berlin:20220617T100000
DTEND;TZID=Europe/Berlin:20220619T150000
DTSTAMP:20260421T185509
CREATED:20220313T174556Z
LAST-MODIFIED:20220524T092410Z
UID:1712-1655460000-1655650800@freitagstrasse.de
SUMMARY:Kurs in Vergebung
DESCRIPTION:Vergebung ist\, neben der Selbstliebe\, die wirkkräftigste Ausprägung von Menschlichkeit auf dem Weg in ein bewusstes\, erfüllendes und von innerem Frieden geprägtes Sein. Vergebung für einen anderen\, noch viel mehr Vergebung gegenüber deiner Selbst. Vergebung bedeutet annehmen was ist\, übernehmen von Verantwortung\, anerkennen von Täter– und Opferschaft. Vergebung bedeutet anzuerkennen\, das Dinge so verlaufen sind\, weil manches zum Zeitpunkt der Tat nicht bewusst war oder alte Muster abliefen von denen du keine Ahnung hattest.Vielleicht entsteht eine zu vergebende Tat aus völlig verschiedenen\, erlernten Sichtweisen und Annahmen. Egal was der Grund ist…Vergebung heißt nicht\, das Dinge ungeschehen gemacht werden. Nein\, sie sind immer noch das was sie sind. Vergebung bedeutet\, die Hand von der Kehle des anderen zu nehmen\, die Hände wieder frei zu haben\, um neues zu erschaffen und nicht mehr in der Starre des eigenen Würgegriffs gefangen zu sein.Vergeben heißt\, sich zu öffnen… für das\, was das Gegenüber auch ist.Du meinst das geht nicht? Stell dir vor du bist der Täter und wünschst dir Vergebung… du würdest fast alles tun\, um das Geschehene ungeschehen zu machen. Du hast einen Fehler gemacht den du gerne rückgängig machen würdest. Passiert ist passiert. Was würdest du dafür geben das dir vergeben wird? Wie fühlt es sich an wenn dir verziehen wurde? Wie hat es sich für dich angefühlt wenn\, du jemandem vergeben hast? Wie oft entsteht Tat aus Tat und die Spirale der Gewalt dreht sich immer weiter. Du kannst niemanden verletzen ohne dir selbst weh zu tun. Vielleicht verschafft dir ein aktueller „Sieg“ Genugtuung\, aber das Gemetzel geht weiter.In unserem Workshop möchten wir mit dir die Dynamik hinter dem Thema erforschen. Wir möchte Licht ins Dunkel der Opfer–Täter-Dynamik bringen und Wege aufzeigen wie du\, durch Vergebung Freiheit für dich entstehen lassen kannst.Vergebung ist ein besonderer Akt der Liebe und deshalb auch Inhalt und Thema der zweiten Workshop–Reihe unserer Liebesschule. Fühl dich von Herzen eingeladen auf ein besonderes Wochenende welches deinen Blick auf das Leben grundlegend verändern kann. \n\n\n\nMit einer Anzahlung von 100 € ist deine Anmeldung verbindlich gebucht. \n\n\n\n450€mit Übernachtung im Gruppenraum und Frühstück / 400 € ohne Übernachtung mit Frühstück \n\n\n\n \n\n\n\n\n\n\n\n\nJetzt anmelden
URL:https://freitagstrasse.de/veranstaltung/kurs-in-vergebung-2/
CATEGORIES:Workshop
ATTACH;FMTTYPE=image/jpeg:https://freitagstrasse.de/wp-content/uploads/2022/03/sternmandala.jpg
END:VEVENT
END:VCALENDAR