BEGIN:VCALENDAR
VERSION:2.0
PRODID:-//Freitagstrasse - ECPv6.15.20//NONSGML v1.0//EN
CALSCALE:GREGORIAN
METHOD:PUBLISH
X-WR-CALNAME:Freitagstrasse
X-ORIGINAL-URL:https://freitagstrasse.de
X-WR-CALDESC:Veranstaltungen für Freitagstrasse
REFRESH-INTERVAL;VALUE=DURATION:PT1H
X-Robots-Tag:noindex
X-PUBLISHED-TTL:PT1H
BEGIN:VTIMEZONE
TZID:Europe/Berlin
BEGIN:DAYLIGHT
TZOFFSETFROM:+0100
TZOFFSETTO:+0200
TZNAME:CEST
DTSTART:20210328T010000
END:DAYLIGHT
BEGIN:STANDARD
TZOFFSETFROM:+0200
TZOFFSETTO:+0100
TZNAME:CET
DTSTART:20211031T010000
END:STANDARD
BEGIN:DAYLIGHT
TZOFFSETFROM:+0100
TZOFFSETTO:+0200
TZNAME:CEST
DTSTART:20220327T010000
END:DAYLIGHT
BEGIN:STANDARD
TZOFFSETFROM:+0200
TZOFFSETTO:+0100
TZNAME:CET
DTSTART:20221030T010000
END:STANDARD
BEGIN:DAYLIGHT
TZOFFSETFROM:+0100
TZOFFSETTO:+0200
TZNAME:CEST
DTSTART:20230326T010000
END:DAYLIGHT
BEGIN:STANDARD
TZOFFSETFROM:+0200
TZOFFSETTO:+0100
TZNAME:CET
DTSTART:20231029T010000
END:STANDARD
END:VTIMEZONE
BEGIN:VEVENT
DTSTART;TZID=Europe/Berlin:20220506T100000
DTEND;TZID=Europe/Berlin:20220520T170000
DTSTAMP:20260421T201644
CREATED:20211130T201705Z
LAST-MODIFIED:20220316T223107Z
UID:1663-1651831200-1653066000@freitagstrasse.de
SUMMARY:Camino Frances 2022 - dein Weg zu dir selbst
DESCRIPTION:Es geht wieder los\, eine besondere Erfahrung wartet auf dich. Wir laufen gemeinsam über den Jakobsweg von Astorga nach Santiago. Das große Thema dieser Reise ist Selbsterfahrung. Beschäftigen Dich Fragen wie „Wer bin ich?“ „Warum bin ich hier?“ „Was ist mein Weg?“ oder „Warum bin ich so?“ „Was ist mein Potenzial und wie kann ich es gut nutzen?“Mit all diesen Themen werden wir gehen. In zwei Wochen haben wir alle Zeit der Welt um\, wenn du dich einlässt\, in jede Ecke deines Seins zu gucken. Die Energie des Weges\, die Müdigkeit deines Körpers\, die Gruppenenergie und meine langjährige Erfahrung als Wegbegleiter werden dir helfen\, zu deiner ganz eigenen Wahrheit zu finden und deine Selbstheilungskräfte zu aktivieren. Diesen Weg gehen seit 1000 Jahren Menschen mit den immer gleichen Fragen. Millionen Füße haben diesen Weg suchend und findend berührt und diesem Weg seine ureigene Energie verliehen und ich selbst habe an mir und an anderen wirkliche Wunder geschehen sehen. Nein\, es ist noch kein Blinder vor meinen Augen sehend geworden. Das meine ich nicht.Ich meine viele berührende Momente in denen auf einmal eine große Klarheit\, ein plötzliches Verstehen da ist. Der Moment\, in dem wie aus dem nichts\, die Tränen aufsteigen und dich göttliche Liebe flutet. Das alles fernab von Religion oder Glaubenssätzen… sie ist einfach da und du verstehst… wovon du vorher nichts wusstest. Die Magie des Camino.Spanische Sonne\, Nächte im Freien oder im Zelt\, sehr… na\, sagen wir mal teils recht gesellige Pilgerherbergen… alles erlebst du in dieser Zeit. Ein wirkliches Abenteuer im 21. Jahrhundert…Ich begleite dich und die Gruppe in dieser Zeit mit allen Werkzeugen die mir das Leben geschenkt hat. Meditation\, Familienstellen\, Morphisches Feld lesen\, schamanisches und die Erfahrung aus meinen Jahren als Coach in der Einzel-/Paar-/Familien- und Sexualbegleitung. \n\n\n\nTrau dich…es wird in jedem Fall besonders. \n\n\n\nDie Eckdaten… \n\n\n\nBeginn: 06.05.2022 vor dem Bischofspalast in AstorgaEnde: 20.05.2022 Kathedrale SantiagoKosten: 1650 Euro zuzüglich Anreise und Verpflegung \n\n\n\nFrühbucherpreis bis 01.02.2021 1550 Euro \n\n\n\nDeine Buchung ist mit einer Anzahlung von 400 Euro verbindlich. \n\n\n\nWir laufen pro Tag im Normalfall zwischen 20 und 25 km. Wir übernachten in Pilgerherbergen oder im Zelt. Bitte plane für die An- und Abreise wenigstens 1-2 Tage ein.Wenn du magst kannst du in Eigenregie ein paar Tage am Atlantik verlängern. \n\n\n\n\n\n\n\n\nJetzt anmelden
URL:https://freitagstrasse.de/veranstaltung/camino-frances-2022-dein-weg-zu-dir-selbst/
CATEGORIES:Pilgern
ATTACH;FMTTYPE=image/jpeg:https://freitagstrasse.de/wp-content/uploads/2021/11/IMAGE-2022-03-16-231839-3.jpg
END:VEVENT
END:VCALENDAR