BEGIN:VCALENDAR
VERSION:2.0
PRODID:-//Freitagstrasse - ECPv6.15.20//NONSGML v1.0//EN
CALSCALE:GREGORIAN
METHOD:PUBLISH
X-WR-CALNAME:Freitagstrasse
X-ORIGINAL-URL:https://freitagstrasse.de
X-WR-CALDESC:Veranstaltungen für Freitagstrasse
REFRESH-INTERVAL;VALUE=DURATION:PT1H
X-Robots-Tag:noindex
X-PUBLISHED-TTL:PT1H
BEGIN:VTIMEZONE
TZID:Europe/Berlin
BEGIN:DAYLIGHT
TZOFFSETFROM:+0100
TZOFFSETTO:+0200
TZNAME:CEST
DTSTART:20210328T010000
END:DAYLIGHT
BEGIN:STANDARD
TZOFFSETFROM:+0200
TZOFFSETTO:+0100
TZNAME:CET
DTSTART:20211031T010000
END:STANDARD
BEGIN:DAYLIGHT
TZOFFSETFROM:+0100
TZOFFSETTO:+0200
TZNAME:CEST
DTSTART:20220327T010000
END:DAYLIGHT
BEGIN:STANDARD
TZOFFSETFROM:+0200
TZOFFSETTO:+0100
TZNAME:CET
DTSTART:20221030T010000
END:STANDARD
BEGIN:DAYLIGHT
TZOFFSETFROM:+0100
TZOFFSETTO:+0200
TZNAME:CEST
DTSTART:20230326T010000
END:DAYLIGHT
BEGIN:STANDARD
TZOFFSETFROM:+0200
TZOFFSETTO:+0100
TZNAME:CET
DTSTART:20231029T010000
END:STANDARD
END:VTIMEZONE
BEGIN:VEVENT
DTSTART;TZID=Europe/Berlin:20220405T173000
DTEND;TZID=Europe/Berlin:20220405T220000
DTSTAMP:20260421T214459
CREATED:20220313T175319Z
LAST-MODIFIED:20220313T181315Z
UID:1769-1649179800-1649196000@freitagstrasse.de
SUMMARY:Familienaufstellung
DESCRIPTION:Zwei systemische Familienaufstellungen finden an diesem Abend statt.Hast du ein Thema das dich bedrückt\, seit langem begleitet und/oder das du endlich in Heilung und Klärung bringen möchtest? Dann nutze die Kraft der systemischen Aufstellarbeit und reserviere dir einen Termin.Bitte beachte: Wenn du kurzfristig deinen Termin absagt\, erheben wir folgende Bearbeitungsgebühren:bis 1 Woche vor dem Termin: 50% der Aufstellkostendanach wird der volle Preis berechnet.Gern kannst du als Stellvertreter dazu kommen und die Aufstellung so unterstützen. Oftmals kommen schon auf diesem Wege eigene Themen in Bewegung. \n\n\n\nStellvertreter: 10 € SpendeAufstellung eines eigenen Themas: 120 € \n\n\n\n\n\n\n\n\nJetzt anmelden
URL:https://freitagstrasse.de/veranstaltung/familienaufstellung/
CATEGORIES:Familienaufstellungen
ATTACH;FMTTYPE=image/jpeg:https://freitagstrasse.de/wp-content/uploads/2021/10/IMG_6193.jpg
END:VEVENT
END:VCALENDAR