BEGIN:VCALENDAR
VERSION:2.0
PRODID:-//Freitagstrasse - ECPv6.15.20//NONSGML v1.0//EN
CALSCALE:GREGORIAN
METHOD:PUBLISH
X-WR-CALNAME:Freitagstrasse
X-ORIGINAL-URL:https://freitagstrasse.de
X-WR-CALDESC:Veranstaltungen für Freitagstrasse
REFRESH-INTERVAL;VALUE=DURATION:PT1H
X-Robots-Tag:noindex
X-PUBLISHED-TTL:PT1H
BEGIN:VTIMEZONE
TZID:Europe/Berlin
BEGIN:DAYLIGHT
TZOFFSETFROM:+0100
TZOFFSETTO:+0200
TZNAME:CEST
DTSTART:20190331T010000
END:DAYLIGHT
BEGIN:STANDARD
TZOFFSETFROM:+0200
TZOFFSETTO:+0100
TZNAME:CET
DTSTART:20191027T010000
END:STANDARD
BEGIN:DAYLIGHT
TZOFFSETFROM:+0100
TZOFFSETTO:+0200
TZNAME:CEST
DTSTART:20200329T010000
END:DAYLIGHT
BEGIN:STANDARD
TZOFFSETFROM:+0200
TZOFFSETTO:+0100
TZNAME:CET
DTSTART:20201025T010000
END:STANDARD
BEGIN:DAYLIGHT
TZOFFSETFROM:+0100
TZOFFSETTO:+0200
TZNAME:CEST
DTSTART:20210328T010000
END:DAYLIGHT
BEGIN:STANDARD
TZOFFSETFROM:+0200
TZOFFSETTO:+0100
TZNAME:CET
DTSTART:20211031T010000
END:STANDARD
END:VTIMEZONE
BEGIN:VEVENT
DTSTART;TZID=Europe/Berlin:20200929T173000
DTEND;TZID=Europe/Berlin:20200929T213000
DTSTAMP:20260423T011233
CREATED:20200906T125246Z
LAST-MODIFIED:20200915T074016Z
UID:787-1601400600-1601415000@freitagstrasse.de
SUMMARY:Familienstellen
DESCRIPTION:Bei systemischen Familienaufstellungen kannst du tief in deine persönlichen Themen schauen. Meist sind diese Themen verbunden mit den Beziehungen zu unseren Eltern und Ahnen. Durch das sichtbar machen und bewußt werden dieser Verbindungen\, können diese Themen in die Heilung kommen.Wir machen 2 Aufstellungen pro Abend und wir haben Platz für max. 10 Stellvertreter.  \n\n\n\nBitte melde dich verbindlich per Mail an: post@freitagstrasse.de
URL:https://freitagstrasse.de/veranstaltung/familienstellen/
CATEGORIES:Information
ATTACH;FMTTYPE=image/jpeg:https://freitagstrasse.de/wp-content/uploads/2020/09/family-658453__340.jpg
END:VEVENT
END:VCALENDAR