BEGIN:VCALENDAR
VERSION:2.0
PRODID:-//Freitagstrasse - ECPv6.15.20//NONSGML v1.0//EN
CALSCALE:GREGORIAN
METHOD:PUBLISH
X-ORIGINAL-URL:https://freitagstrasse.de
X-WR-CALDESC:Veranstaltungen für Freitagstrasse
REFRESH-INTERVAL;VALUE=DURATION:PT1H
X-Robots-Tag:noindex
X-PUBLISHED-TTL:PT1H
BEGIN:VTIMEZONE
TZID:Europe/Berlin
BEGIN:DAYLIGHT
TZOFFSETFROM:+0100
TZOFFSETTO:+0200
TZNAME:CEST
DTSTART:20190331T010000
END:DAYLIGHT
BEGIN:STANDARD
TZOFFSETFROM:+0200
TZOFFSETTO:+0100
TZNAME:CET
DTSTART:20191027T010000
END:STANDARD
BEGIN:DAYLIGHT
TZOFFSETFROM:+0100
TZOFFSETTO:+0200
TZNAME:CEST
DTSTART:20200329T010000
END:DAYLIGHT
BEGIN:STANDARD
TZOFFSETFROM:+0200
TZOFFSETTO:+0100
TZNAME:CET
DTSTART:20201025T010000
END:STANDARD
BEGIN:DAYLIGHT
TZOFFSETFROM:+0100
TZOFFSETTO:+0200
TZNAME:CEST
DTSTART:20210328T010000
END:DAYLIGHT
BEGIN:STANDARD
TZOFFSETFROM:+0200
TZOFFSETTO:+0100
TZNAME:CET
DTSTART:20211031T010000
END:STANDARD
END:VTIMEZONE
BEGIN:VEVENT
DTSTART;TZID=Europe/Berlin:20200902T080000
DTEND;TZID=Europe/Berlin:20200925T170000
DTSTAMP:20260423T025628
CREATED:20200309T124156Z
LAST-MODIFIED:20200309T124201Z
UID:385-1599033600-1601053200@freitagstrasse.de
SUMMARY:Pilgern in Spanien
DESCRIPTION:3 Wochen durch Spanien. Körper und Geist fordern\, die Seele entspannt. Alles benötigte ist im Rucksack\, inkl. Zelt. Übernachtet wird in Pilgerherbergen oder dem Zelt. Der Weg zeigt dir den Weg!
URL:https://freitagstrasse.de/veranstaltung/pilgern-in-spanien/
CATEGORIES:Pilgern
END:VEVENT
BEGIN:VEVENT
DTSTART;TZID=Europe/Berlin:20200903T120000
DTEND;TZID=Europe/Berlin:20200906T170000
DTSTAMP:20260423T025628
CREATED:20200309T124627Z
LAST-MODIFIED:20200309T125334Z
UID:387-1599134400-1599411600@freitagstrasse.de
SUMMARY:Frauenpilgern in Sachsen
DESCRIPTION:4 Tage ohne Alltag laufen und die Seele „sprechen“ lassen. Das einzige was zu tun ist\, ist aufstehen und laufen. Zeit für dich und nur für dich! Alles was du brauchst ist im Rucksack. Übernachtet wird in einfachen Pilgerunterkünften.
URL:https://freitagstrasse.de/veranstaltung/frauenpilgern-in-sachsen-2/
CATEGORIES:Pilgern
END:VEVENT
END:VCALENDAR