BEGIN:VCALENDAR
VERSION:2.0
PRODID:-//Freitagstrasse - ECPv6.15.20//NONSGML v1.0//EN
CALSCALE:GREGORIAN
METHOD:PUBLISH
X-ORIGINAL-URL:https://freitagstrasse.de
X-WR-CALDESC:Veranstaltungen für Freitagstrasse
REFRESH-INTERVAL;VALUE=DURATION:PT1H
X-Robots-Tag:noindex
X-PUBLISHED-TTL:PT1H
BEGIN:VTIMEZONE
TZID:Europe/Berlin
BEGIN:DAYLIGHT
TZOFFSETFROM:+0100
TZOFFSETTO:+0200
TZNAME:CEST
DTSTART:20190331T010000
END:DAYLIGHT
BEGIN:STANDARD
TZOFFSETFROM:+0200
TZOFFSETTO:+0100
TZNAME:CET
DTSTART:20191027T010000
END:STANDARD
BEGIN:DAYLIGHT
TZOFFSETFROM:+0100
TZOFFSETTO:+0200
TZNAME:CEST
DTSTART:20200329T010000
END:DAYLIGHT
BEGIN:STANDARD
TZOFFSETFROM:+0200
TZOFFSETTO:+0100
TZNAME:CET
DTSTART:20201025T010000
END:STANDARD
BEGIN:DAYLIGHT
TZOFFSETFROM:+0100
TZOFFSETTO:+0200
TZNAME:CEST
DTSTART:20210328T010000
END:DAYLIGHT
BEGIN:STANDARD
TZOFFSETFROM:+0200
TZOFFSETTO:+0100
TZNAME:CET
DTSTART:20211031T010000
END:STANDARD
END:VTIMEZONE
BEGIN:VEVENT
DTSTART;TZID=Europe/Berlin:20200521T150000
DTEND;TZID=Europe/Berlin:20200524T170000
DTSTAMP:20260423T085647
CREATED:20200309T123041Z
LAST-MODIFIED:20200309T125526Z
UID:380-1590073200-1590339600@freitagstrasse.de
SUMMARY:Vater & Sohn - Pilgern in Sachsen
DESCRIPTION:4 Tage Zeit für Euch\, Vater und Sohn gemeinsam auf dem Weg. Entdeckt Euch\, trefft Euch und Väter\, entlasst Eure Söhne ein Stück weiter in Richtung Erwachsenenwelt. Alles was ihr braucht ist im Rucksack. Übernachtet wird in einfachen Pilgerunterkünften.
URL:https://freitagstrasse.de/veranstaltung/vater-sohn-pilgern-in-sachsen/
CATEGORIES:Pilgern
END:VEVENT
END:VCALENDAR