BEGIN:VCALENDAR
VERSION:2.0
PRODID:-//Freitagstrasse - ECPv6.15.20//NONSGML v1.0//EN
CALSCALE:GREGORIAN
METHOD:PUBLISH
X-WR-CALNAME:Freitagstrasse
X-ORIGINAL-URL:https://freitagstrasse.de
X-WR-CALDESC:Veranstaltungen für Freitagstrasse
REFRESH-INTERVAL;VALUE=DURATION:PT1H
X-Robots-Tag:noindex
X-PUBLISHED-TTL:PT1H
BEGIN:VTIMEZONE
TZID:Europe/Berlin
BEGIN:DAYLIGHT
TZOFFSETFROM:+0100
TZOFFSETTO:+0200
TZNAME:CEST
DTSTART:20190331T010000
END:DAYLIGHT
BEGIN:STANDARD
TZOFFSETFROM:+0200
TZOFFSETTO:+0100
TZNAME:CET
DTSTART:20191027T010000
END:STANDARD
BEGIN:DAYLIGHT
TZOFFSETFROM:+0100
TZOFFSETTO:+0200
TZNAME:CEST
DTSTART:20200329T010000
END:DAYLIGHT
BEGIN:STANDARD
TZOFFSETFROM:+0200
TZOFFSETTO:+0100
TZNAME:CET
DTSTART:20201025T010000
END:STANDARD
BEGIN:DAYLIGHT
TZOFFSETFROM:+0100
TZOFFSETTO:+0200
TZNAME:CEST
DTSTART:20210328T010000
END:DAYLIGHT
BEGIN:STANDARD
TZOFFSETFROM:+0200
TZOFFSETTO:+0100
TZNAME:CET
DTSTART:20211031T010000
END:STANDARD
END:VTIMEZONE
BEGIN:VEVENT
DTSTART;TZID=Europe/Berlin:20200514T120000
DTEND;TZID=Europe/Berlin:20200517T170000
DTSTAMP:20260423T083713
CREATED:20200309T122724Z
LAST-MODIFIED:20200309T125633Z
UID:378-1589457600-1589734800@freitagstrasse.de
SUMMARY:Frauenpilgern in Sachsen
DESCRIPTION:4 Tage durch Sachsen. Alles was benötigt wird hast Du auf dem Rücken. Übernachtung in einfachen Pilgerherbergen.
URL:https://freitagstrasse.de/veranstaltung/frauenpilgern-in-sachsen/
CATEGORIES:Pilgern
END:VEVENT
END:VCALENDAR